BEGIN:VCALENDAR
VERSION:2.0
PRODID:-//ChamberMaster//Event Calendar 2.0//EN
METHOD:PUBLISH
X-PUBLISHED-TTL:P3D
REFRESH-INTERVAL:P3D
CALSCALE:GREGORIAN
BEGIN:VEVENT
DTSTART:20200216T010000Z
DTEND:20200216T055500Z
X-MICROSOFT-CDO-ALLDAYEVENT:FALSE
SUMMARY:Krewe de Centrale' Mardi Gras Ball
DESCRIPTION:Krewe de Centrale' Mardi Gras Ball
X-ALT-DESC;FMTTYPE=text/html:<p style="text-align: center"><span style="color:#4B0082\;"><strong><em><span style="font-size: 18px"><span style="font-family: times new roman">Krewe de Centrale&#39\; Mardi Gras Ball</span></span></em></strong></span></p>\n
LOCATION:CCA Gym 10510 Joor Road
UID:e.1367.2899
SEQUENCE:3
DTSTAMP:20260424T234256Z
URL:https://business.cityofcentralchamber.com/events/details/krewe-de-centrale-mardi-gras-ball-2899
END:VEVENT

END:VCALENDAR
