BEGIN:VCALENDAR
VERSION:2.0
PRODID:-//ChamberMaster//Event Calendar 2.0//EN
METHOD:PUBLISH
X-PUBLISHED-TTL:P3D
REFRESH-INTERVAL:P3D
CALSCALE:GREGORIAN
BEGIN:VEVENT
DTSTART:20230610T153000Z
DTEND:20230610T163000Z
X-MICROSOFT-CDO-ALLDAYEVENT:FALSE
SUMMARY:K&M - Ribbon Cutting
DESCRIPTION:K&M Collectables Grand Opening!
X-ALT-DESC;FMTTYPE=text/html:K&amp\;M Collectables Grand Opening!&nbsp\;
LOCATION:13414 Hooper Rd suite B
UID:e.1367.3123
SEQUENCE:3
DTSTAMP:20260422T074013Z
URL:https://business.cityofcentralchamber.com/events/details/k-m-ribbon-cutting-3123
END:VEVENT

END:VCALENDAR
