BEGIN:VCALENDAR
VERSION:2.0
PRODID:-//ChamberMaster//Event Calendar 2.0//EN
METHOD:PUBLISH
X-PUBLISHED-TTL:P3D
REFRESH-INTERVAL:P3D
CALSCALE:GREGORIAN
BEGIN:VEVENT
DTSTART:20200701T213000Z
DTEND:20200701T233000Z
X-MICROSOFT-CDO-ALLDAYEVENT:FALSE
SUMMARY:Job Fair at the Claiborne at Shoe Creek!
DESCRIPTION:We are hiring! \n\n \n\nCome to our job fair! \n\n \n\nPositions Available: LPN\, CNA & PCA (all shifts)\, Cook & Maintenance Director\n\nWednesday\, July 1\, 4:30 pm - 6:30 pm\n\n \n\nCome grab a sandwich & fill out an application! \n\n\n\nOnsite Interviews\n\nClaiborne at Shoe Creek \n\n14340 Greenwell Springs Rd.\,\n\nGreenwell Springs\, LA 70739\n\n(next to Ross Tires)
X-ALT-DESC;FMTTYPE=text/html:<h1 style="text-align: center\;">We are hiring!&nbsp\;</h1>\n\n<div style="text-align: center\;">&nbsp\;</div>\n\n<h2 style="text-align: center\;">Come to our job fair!&nbsp\;</h2>\n\n<div style="text-align: center\;">&nbsp\;</div>\n\n<h3 style="text-align: center\;">Positions Available: LPN\, CNA &amp\; PCA (all shifts)\, Cook &amp\; Maintenance Director</h3>\n\n<h2 style="text-align: center\;">Wednesday\, July 1\, 4:30 pm - 6:30 pm</h2>\n\n<div style="text-align: center\;">&nbsp\;</div>\n\n<h3 style="text-align: center\;">Come grab a sandwich &amp\; fill out an application!&nbsp\;<br />\n<br />\nOnsite Interviews</h3>\n\n<h2 style="text-align: center\;">Claiborne at Shoe Creek&nbsp\;<br />\n14340 Greenwell Springs Rd.\,<br />\nGreenwell Springs\, LA 70739<br />\n(next to Ross Tires)</h2>\n
LOCATION:Claiborne at Shoe Creek 14340 Greenwell Springs Rd.\, Greenwell Springs\, LA 70739 (next to Ross Tires)
UID:e.1367.2959
SEQUENCE:3
DTSTAMP:20260424T155527Z
URL:https://business.cityofcentralchamber.com/events/details/job-fair-at-the-claiborne-at-shoe-creek-2959
END:VEVENT

END:VCALENDAR
