BEGIN:VCALENDAR
VERSION:2.0
PRODID:-//ChamberMaster//Event Calendar 2.0//EN
METHOD:PUBLISH
X-PUBLISHED-TTL:P3D
REFRESH-INTERVAL:P3D
CALSCALE:GREGORIAN
BEGIN:VEVENT
DTSTART:20260114T173000Z
DTEND:20260114T190000Z
X-MICROSOFT-CDO-ALLDAYEVENT:FALSE
SUMMARY:January Investor Monthly Luncheon
DESCRIPTION:David Simoneaux and Todd Bossier have teamed up to write a book inspired by Central High School's unforgettable state championship football run. What began as a historic season on the field ultimately led to the discovery of what they describe as a divine playbook   a set of timeless principles that can help individuals step into the role of Hero of their own story.\n\n \n\nDuring this presentation\, David and Todd will share the backstory behind how HERO MAKERS came to be\, including how seasons of heartbreak\, adversity\, and personal collapse gave rise to a renewed vision for maximizing human potential. Attendees will also leave with one practical "key play" they can apply immediately to their own lives   whether in business\, leadership\, health\, or personal growth
X-ALT-DESC;FMTTYPE=text/html:<strong><span style="font-family:system-ui\,serif\;">David Simoneaux</span></strong><span style="font-family:system-ui\,serif\;"> and <strong>Todd Bossier</strong> have teamed up to write a book inspired by <strong>Central High School</strong>&rsquo\;s unforgettable state championship football run. What began as a historic season on the field ultimately led to the discovery of what they describe as a <em>divine playbook</em> &mdash\; a set of timeless principles that can help individuals step into the role of <strong>Hero of their own story</strong>.</span><br />\n&nbsp\;<br />\n<span style="font-size:14px\;"><span style="font-family:system-ui\,serif\;">During this presentation\, David and Todd will share the backstory behind how <em>HERO MAKERS</em> came to be\, including how seasons of heartbreak\, adversity\, and personal collapse gave rise to a renewed vision for maximizing human potential. Attendees will also leave with <strong>one practical &ldquo\;key play&rdquo\;</strong> they can apply immediately to their own lives &mdash\; whether in business\, leadership\, health\, or personal growth</span></span>
LOCATION:Kristenwood Catering & Reception
UID:e.1367.3248
SEQUENCE:3
DTSTAMP:20260420T003940Z
URL:https://business.cityofcentralchamber.com/events/details/january-investor-monthly-luncheon-3248
END:VEVENT

END:VCALENDAR
