BEGIN:VCALENDAR
VERSION:2.0
PRODID:-//ChamberMaster//Event Calendar 2.0//EN
METHOD:PUBLISH
X-PUBLISHED-TTL:P3D
REFRESH-INTERVAL:P3D
CALSCALE:GREGORIAN
BEGIN:VEVENT
DTSTART:20240508T163000Z
DTEND:20240508T180000Z
X-MICROSOFT-CDO-ALLDAYEVENT:FALSE
SUMMARY:Investors' Only Social Luncheon
DESCRIPTION:Join us for a networking luncheon on May 8th.\n\nPlease register ahead of time by clicking "Register" on the right and we will see you at Jackson Park on May 8th at 11:30 am.\n\n\n\nAll attendees\, including additional representatives\, should be pre-registered and pre-paid. Thank you for your cooperation!
X-ALT-DESC;FMTTYPE=text/html:<span style="box-sizing: border-box\; color: rgb(0\, 0\, 0)\; font-family: arial\; font-size: 16px\;">Join us for a networking luncheon on May 8th.</span><br />\n<span style="box-sizing: border-box\; color: rgb(0\, 0\, 0)\; font-family: arial\; font-size: 16px\; white-space: pre-wrap\;">Please register ahead of time by clicking &quot\;Register&quot\; on the right and we will see you at Jackson Park on May 8th at 11:30 am.</span><br style="box-sizing: border-box\; color: rgb(0\, 0\, 0)\; font-family: arial\; font-size: 16px\; white-space: pre-wrap\;" />\n<br style="box-sizing: border-box\; color: rgb(0\, 0\, 0)\; font-family: arial\; font-size: 16px\; white-space: pre-wrap\;" />\n<span style="box-sizing: border-box\; color: rgb(0\, 0\, 0)\; font-family: arial\; font-size: 16px\; white-space: pre-wrap\;">All attendees\, including additional representatives</span><span style="box-sizing: border-box\; color: rgb(0\, 0\, 0)\; font-family: arial\; font-size: 16px\; white-space: pre-wrap\;">\, should be <span style="box-sizing: border-box\; font-weight: bolder\;">pre-registered and pre-paid. </span>Thank you for your cooperation!</span><br />\n<br />\n&nbsp\;
LOCATION:BREC - Jackson Park 12250 Sullivan Road Baton Rouge\, Louisiana 70818
UID:e.1367.1719
SEQUENCE:3
DTSTAMP:20260421T114301Z
URL:https://business.cityofcentralchamber.com/events/details/investors-only-social-luncheon-1719
END:VEVENT

END:VCALENDAR
