BEGIN:VCALENDAR
VERSION:2.0
PRODID:-//ChamberMaster//Event Calendar 2.0//EN
METHOD:PUBLISH
X-PUBLISHED-TTL:P3D
REFRESH-INTERVAL:P3D
CALSCALE:GREGORIAN
BEGIN:VEVENT
DTSTART:20251008T163000Z
DTEND:20251008T180000Z
X-MICROSOFT-CDO-ALLDAYEVENT:FALSE
SUMMARY:Investors' Monthly Luncheon - Meet the Chamber
DESCRIPTION:MARK YOUR CALENDARS!\n\n\n\nEver wonder who's behind the City of Central Chamber of Commerce?\n\n\n\nJoin us for a perfect opportunity to connect with Chamber staff\, board members\, ambassadors\, and board nominees. Whether you're a longtime investor or new to the Chamber\, this luncheon is a great way to learn more about the people working behind the scenes to support our business community.\n\n\n\n\n\nJoin us on October 8th\, 2025 for our - Meet the Chamber!
X-ALT-DESC;FMTTYPE=text/html:<p data-end="409" data-start="85"><span style="font-size:14px\;"><span style="font-family:arial\;"><strong data-end="112" data-start="88">MARK YOUR CALENDARS!</strong><br />\n<br />\nEver wonder who&#39\;s behind the City of Central Chamber of Commerce?</span><br />\n<br />\nJoin us for a perfect opportunity to connect with Chamber staff\, board members\, ambassadors\, and board nominees. Whether you&rsquo\;re a longtime investor or new to the Chamber\, this luncheon is a great way to learn more about the people working behind the scenes to support our business community.<br />\n<br />\n<br data-end="118" data-start="115" />\n<span style="font-family:arial\;">Join us on <strong>October 8th\,</strong><strong data-end="146" data-start="129">&nbsp\;2025</strong> for our <b>- Meet the Chamber!</b></span></span></p>\n\n<p data-end="601" data-start="507">&nbsp\;</p>\n
LOCATION:KRISTENWOOD CATERING & RECEPTION
UID:e.1367.3244
SEQUENCE:3
DTSTAMP:20260420T055120Z
URL:https://business.cityofcentralchamber.com/events/details/investors-monthly-luncheon-meet-the-chamber-3244
END:VEVENT

END:VCALENDAR
