BEGIN:VCALENDAR
VERSION:2.0
PRODID:-//ChamberMaster//Event Calendar 2.0//EN
METHOD:PUBLISH
X-PUBLISHED-TTL:P3D
REFRESH-INTERVAL:P3D
CALSCALE:GREGORIAN
BEGIN:VEVENT
DTSTART:20250521T163000Z
DTEND:20250521T180000Z
X-MICROSOFT-CDO-ALLDAYEVENT:FALSE
SUMMARY:Investors' Monthly Luncheon - Marketing Panel
DESCRIPTION:MARK YOUR CALENDARS!  \n\n\n\nJoin us on May 21st\, 2025 for our Marketing Panel   a luncheon packed with expert insights\, real-world strategies\, and powerful networking opportunities!    Whether you're a small business owner\, entrepreneur\, or just curious about the latest marketing trends\, this event is for YOU.\n\nLet's grow together.
X-ALT-DESC;FMTTYPE=text/html:<p data-end="409" data-start="85"><span style="font-size:14px\;"><span style="font-family:arial\;">&#127919\; <strong data-end="112" data-start="88">MARK YOUR CALENDARS!</strong> &#127919\;<br />\n<br data-end="118" data-start="115" />\nJoin us on <strong data-end="146" data-start="129">May 21st\, 2025</strong> for our <strong data-end="174" data-start="155">Marketing Panel</strong> &mdash\; a luncheon&nbsp\;packed with expert insights\, real-world strategies\, and powerful networking opportunities! &#128172\;&#10024\; Whether you&#39\;re a small business owner\, entrepreneur\, or just curious about the latest marketing trends\, this event is for YOU.</span></span></p>\n\n<p data-end="601" data-start="507"><span style="font-size:14px\;"><span style="font-family:arial\;">Let&rsquo\;s grow together. &#127793\;</span></span></p>\n
LOCATION:KRISTENWOOD CATERING & RECEPTION
UID:e.1367.3229
SEQUENCE:3
DTSTAMP:20260420T143803Z
URL:https://business.cityofcentralchamber.com/events/details/investors-monthly-luncheon-marketing-panel-3229
END:VEVENT

END:VCALENDAR
