BEGIN:VCALENDAR
VERSION:2.0
PRODID:-//ChamberMaster//Event Calendar 2.0//EN
METHOD:PUBLISH
X-PUBLISHED-TTL:P3D
REFRESH-INTERVAL:P3D
CALSCALE:GREGORIAN
BEGIN:VEVENT
DTSTART:20260211T173000Z
DTEND:20260211T190000Z
X-MICROSOFT-CDO-ALLDAYEVENT:FALSE
SUMMARY:Investors' Monthly Luncheon
DESCRIPTION:Tiffany Parker at Garrison Martial Arts is planning an interactive session around success\, leadership and focus\, with some light group participation rather than a straight lecture.
X-ALT-DESC;FMTTYPE=text/html:<span style="font-size:14px\;"><span style="font-family:arial\;">Tiffany Parker at Garrison Martial Arts</span> is</span>&nbsp\;<span style="font-family:system-ui\,serif\;"><span style="font-size:12.0pt\;">planning an interactive session around success\, leadership and focus\, with some light group participation rather than a straight lecture.&nbsp\;</span></span>
LOCATION:KRISTENWOOD CATERING & RECEPTION
UID:e.1367.3254
SEQUENCE:3
DTSTAMP:20260419T225424Z
URL:https://business.cityofcentralchamber.com/events/details/investors-monthly-luncheon-3254
END:VEVENT

END:VCALENDAR
