BEGIN:VCALENDAR
VERSION:2.0
PRODID:-//ChamberMaster//Event Calendar 2.0//EN
METHOD:PUBLISH
X-PUBLISHED-TTL:P3D
REFRESH-INTERVAL:P3D
CALSCALE:GREGORIAN
BEGIN:VEVENT
DTSTART:20250910T163000Z
DTEND:20250910T180000Z
X-MICROSOFT-CDO-ALLDAYEVENT:FALSE
SUMMARY:Investors' Monthly Luncheon
DESCRIPTION:Join us for an engaging and informative luncheon where you'll get the latest updates and insights on our Central Area schools. This is a fantastic opportunity to connect with fellow community members and learn about exciting developments in our local education system.
X-ALT-DESC;FMTTYPE=text/html:<span style="font-size:16px\;">Join us for an engaging and informative luncheon where you&#39\;ll get the latest updates and insights on our Central Area schools. This is a fantastic opportunity to connect with fellow community members and learn about exciting developments in our local education system.</span>
LOCATION:Kristenwood 14025 Greenwell Springs Road Baton Rouge\, LA 70739
UID:e.1367.3242
SEQUENCE:3
DTSTAMP:20260420T074843Z
URL:https://business.cityofcentralchamber.com/events/details/investors-monthly-luncheon-3242
END:VEVENT

END:VCALENDAR
