BEGIN:VCALENDAR
VERSION:2.0
PRODID:-//ChamberMaster//Event Calendar 2.0//EN
METHOD:PUBLISH
X-PUBLISHED-TTL:P3D
REFRESH-INTERVAL:P3D
CALSCALE:GREGORIAN
BEGIN:VEVENT
DTSTART:20241113T173000Z
DTEND:20241113T190000Z
X-MICROSOFT-CDO-ALLDAYEVENT:FALSE
SUMMARY:Investors' Monthly Luncheon
DESCRIPTION:Join us at Kristenwood for an informative lunch featuring updates from EBR Metro-Councilman Aaron Moak\, remarks from our East Baton Rouge Parish runoff election candidates\, and the swearing-in of our 2025 City of Central Chamber Board Members.\n\n\n\n\n\n\n\nRSVP by clicking "Register" on the right and we will see you at 11:30 am\, November 13th\, 2024.\n\n\n\nMenu: Fried Fish\, Chicken & Sausage Gumbo\, Potato Salad\, Green Salad\n\n\n\nAll attendees should be pre-registered and pre-paid. Thank you for your cooperation!
X-ALT-DESC;FMTTYPE=text/html:<span style="color:#000000\;"><strong><span class="OYPEnA font-feature-liga-off font-feature-clig-off font-feature-calt-off text-decoration-none text-strikethrough-none" style="font-kerning: none\;">Join us at Kristenwood for an informative lunch featuring updates from EBR Metro-Councilman Aaron Moak\, remarks from our East Baton Rouge Parish runoff election candidates\, and the swearing-in of our 2025 City of Central Chamber Board Members.</span></strong></span><br />\n<br />\n<br />\n<br />\n<span style="white-space-collapse: preserve\; background-color: rgb(255\, 255\, 255)\; box-sizing: border-box\; font-family: arial\; font-size: 16px\;">RSVP by clicking &quot\;Register&quot\; on the right and we will see you at 11:30 am\, November 13th\, 2024.</span><br style="font-family: sans-serif\, Arial\, Verdana\, &quot\;Trebuchet MS&quot\;\; font-size: 13px\; background-color: rgb(255\, 255\, 255)\;" />\n<br style="font-family: sans-serif\, Arial\, Verdana\, &quot\;Trebuchet MS&quot\;\; font-size: 13px\; background-color: rgb(255\, 255\, 255)\;" />\n<span style="font-family: sans-serif\, Arial\, Verdana\, &quot\;Trebuchet MS&quot\;\; background-color: rgb(255\, 255\, 255)\; font-size: 16px\;"><span style="font-family: arial\;">Menu: Fried Fish\, Chicken &amp\; Sausage Gumbo\, Potato Salad\, Green Salad</span></span><br style="white-space-collapse: preserve\; background-color: rgb(255\, 255\, 255)\; box-sizing: border-box\; font-family: arial\; font-size: 16px\;" />\n<br style="white-space-collapse: preserve\; background-color: rgb(255\, 255\, 255)\; box-sizing: border-box\; font-family: arial\; font-size: 16px\;" />\n<span style="white-space-collapse: preserve\; background-color: rgb(255\, 255\, 255)\; box-sizing: border-box\; font-family: arial\; font-size: 16px\;">All attendees should be <span style="box-sizing: border-box\; font-weight: bolder\;">pre-registered and pre-paid. </span>Thank you for your cooperation!</span><br />\n&nbsp\;
LOCATION:Kristenwood Reception 14025 Greenwell Springs Rd
UID:e.1367.3205
SEQUENCE:3
DTSTAMP:20260421T015905Z
URL:https://business.cityofcentralchamber.com/events/details/investors-monthly-luncheon-3205
END:VEVENT

END:VCALENDAR
