BEGIN:VCALENDAR
VERSION:2.0
PRODID:-//ChamberMaster//Event Calendar 2.0//EN
METHOD:PUBLISH
X-PUBLISHED-TTL:P3D
REFRESH-INTERVAL:P3D
CALSCALE:GREGORIAN
BEGIN:VEVENT
DTSTART:20241009T163000Z
DTEND:20241009T180000Z
X-MICROSOFT-CDO-ALLDAYEVENT:FALSE
SUMMARY:Investors' Monthly Luncheon
DESCRIPTION:Dive into an inspiring session with Jen Gomez and discover the secrets to Unlocking the Flow Engine! Uncover how mastering your flow state can transform your energy\, enhance your influence\, and redefine success. Don't miss this chance to ignite your potential!
X-ALT-DESC;FMTTYPE=text/html:<font face="arial"><span style="font-size: 20px\;"><b>Dive into an inspiring session with Jen Gomez and discover the secrets to Unlocking the Flow Engine! Uncover how mastering your flow state can transform your energy\, enhance your influence\, and redefine success. Don&#39\;t miss this chance to ignite your potential!</b></span></font>
LOCATION:BREC - Jackson Community Park. 12250 Sullivan Road\, Baton Rouge\, LA 70818.
UID:e.1367.3204
SEQUENCE:3
DTSTAMP:20260421T032907Z
URL:https://business.cityofcentralchamber.com/events/details/investors-monthly-luncheon-3204
END:VEVENT

END:VCALENDAR
