BEGIN:VCALENDAR
VERSION:2.0
PRODID:-//ChamberMaster//Event Calendar 2.0//EN
METHOD:PUBLISH
X-PUBLISHED-TTL:P3D
REFRESH-INTERVAL:P3D
CALSCALE:GREGORIAN
BEGIN:VEVENT
DTSTART:20240918T163000Z
DTEND:20240918T180000Z
X-MICROSOFT-CDO-ALLDAYEVENT:FALSE
SUMMARY:Investors' Monthly Luncheon
DESCRIPTION:Join us for an engaging and informative luncheon where you'll get the latest updates and insights on our Central Area schools. This is a fantastic opportunity to connect with fellow community members and learn about exciting developments in our local education system. All attendees should be pre-registered and pre-paid. Thank you for your cooperation!
X-ALT-DESC;FMTTYPE=text/html:<span style="font-size:16px\;">Join us for an engaging and informative luncheon where you&#39\;ll get the latest updates and insights on our Central Area schools. This is a fantastic opportunity to connect with fellow community members and learn about exciting developments in our local education system.&nbsp\;</span><span style="font-family: arial\; font-size: 16px\; white-space-collapse: preserve\; background-color: rgb(255\, 255\, 255)\;">All attendees should be </span><span style="font-family: arial\; font-size: 16px\; white-space-collapse: preserve\; background-color: rgb(255\, 255\, 255)\; box-sizing: border-box\; font-weight: bolder\;">pre-registered and pre-paid. </span><span style="font-family: arial\; font-size: 16px\; white-space-collapse: preserve\; background-color: rgb(255\, 255\, 255)\;">Thank you for your cooperation!</span>
LOCATION:Central Community School System School Board Office Building 11576 Sullivan Road Baton Rouge\, LA 70818
UID:e.1367.3199
SEQUENCE:3
DTSTAMP:20260421T032907Z
URL:https://business.cityofcentralchamber.com/events/details/investors-monthly-luncheon-3199
END:VEVENT

END:VCALENDAR
