BEGIN:VCALENDAR
VERSION:2.0
PRODID:-//ChamberMaster//Event Calendar 2.0//EN
METHOD:PUBLISH
X-PUBLISHED-TTL:P3D
REFRESH-INTERVAL:P3D
CALSCALE:GREGORIAN
BEGIN:VEVENT
DTSTART:20240724T163000Z
DTEND:20240724T180000Z
X-MICROSOFT-CDO-ALLDAYEVENT:FALSE
SUMMARY:Investors' Monthly Luncheon
DESCRIPTION:Join us for an inspirational message from Wyatt Graves on July 24. RSVP by clicking "Register" on the right and we will see you at Kristenwood at 11:30 am.\n\n\n\nMenu: Brisket\, Baked Chicken\, Bacon Wrapped Green Beans\, Carrot Souffle' and Fruit Kabobs.\n\n\n\nAll attendees should be pre-registered and pre-paid. Thank you for your cooperation!
X-ALT-DESC;FMTTYPE=text/html:<span style="box-sizing: border-box\; color: rgb(0\, 0\, 0)\; font-family: arial\; font-size: 16px\;">J</span><span style="color:#000000\;"><span style="box-sizing: border-box\; font-family: arial\; font-size: 16px\;">oin us for an inspirational message from Wyatt Graves on July 24.&nbsp\;</span><span style="box-sizing: border-box\; font-family: arial\; font-size: 16px\; white-space: pre-wrap\;">RSVP by clicking &quot\;Register&quot\; on the right and we will see you at Kristenwood at 11:30 am.</span><br />\n<br />\n<span style="font-size:16px\;"><span style="font-family:arial\;">Menu: Brisket\, Baked Chicken\, Bacon Wrapped Green Beans\, Carrot Souffle&#39\; and Fruit Kabobs.</span></span><br style="box-sizing: border-box\; color: rgb(0\, 0\, 0)\; font-family: arial\; font-size: 16px\; white-space: pre-wrap\;" />\n<br style="box-sizing: border-box\; color: rgb(0\, 0\, 0)\; font-family: arial\; font-size: 16px\; white-space: pre-wrap\;" />\n<span style="box-sizing: border-box\; font-family: arial\; font-size: 16px\; white-space: pre-wrap\;">All attendees should be <span style="box-sizing: border-box\; font-weight: bolder\;">pre-registered and pre-paid. </span>Thank you for your cooperation!</span></span>
LOCATION:Kristenwood Reception 14025 Greenwell Springs Rd
UID:e.1367.1721
SEQUENCE:3
DTSTAMP:20260421T070143Z
URL:https://business.cityofcentralchamber.com/events/details/investors-monthly-luncheon-07-24-2024-1721
END:VEVENT

END:VCALENDAR
