BEGIN:VCALENDAR
VERSION:2.0
PRODID:-//ChamberMaster//Event Calendar 2.0//EN
METHOD:PUBLISH
X-PUBLISHED-TTL:P3D
REFRESH-INTERVAL:P3D
CALSCALE:GREGORIAN
BEGIN:VEVENT
DTSTART:20250115T173000Z
DTEND:20250115T190000Z
X-MICROSOFT-CDO-ALLDAYEVENT:FALSE
SUMMARY:Investors' Monthly Luncheon
DESCRIPTION:Building Better Habits to Achieve Your Goals\n\n \n\nTired of feeling stuck? Making goals\, telling yourself each year will be different\, only to end up in a similar spot? It's time to break that cycle. Join Kylee Arnold as she dives into the science behind how habits are formed and how you can finally break the ones holding you back while building new\, positive ones. In this talk\, you'll learn practical\, brain-based strategies to implement right away helping you make the changes you've been striving for\, no matter what time of year it is. Whether your goals are related to health\, personal growth\, or professional success\, this event will equip you with the tools to create lasting change.\n\n \n\nKylee Arnold is a certified Nutrition Coach with a specialization in behavior change and habit-building for long-term results. With advanced certifications from Precision Nutrition in behavioral science\, she is passionate about helping clients create sustainable habits that transform their health and lives. Kylee's approach is rooted in empowering her clients to break old patterns\, develop healthier habits\, and achieve their personal and professional goals through practical\, science-backed strategies.
X-ALT-DESC;FMTTYPE=text/html:<p style="margin:0in"><span style="font-size:18px\;"><strong><span style="font-family:tahoma\;">Building Better Habits to Achieve Your Goals</span></strong></span><span style="font-family:&quot\;\\.SF UI&quot\;"><o:p></o:p></span></p>\n\n<p style="margin:0in">&nbsp\;</p>\n\n<p style="margin:0in"><span style="font-size:14px\;"><span style="font-family:tahoma\;">Tired of feeling stuck? Making goals\, telling yourself each year will be different\, only to end up in a similar spot? It&rsquo\;s time to break that cycle. Join Kylee Arnold as she dives into the science behind how habits are formed and how you can finally break the ones holding you back while building new\, positive ones. In this talk\, you&rsquo\;ll learn practical\, brain-based strategies to implement right away&mdash\;helping you make the changes you&rsquo\;ve been striving for\, no matter what time of year it is. Whether your goals are related to health\, personal growth\, or professional success\, this event will equip you with the tools to create lasting change.</span></span><br />\n&nbsp\;</p>\n\n<p style="margin:0in"><span style="font-size:14px\;"><span style="font-family:tahoma\;">Kylee Arnold is a certified Nutrition Coach with a specialization in behavior change and habit-building for long-term results. With advanced certifications from Precision Nutrition in behavioral science\, she is passionate about helping clients create sustainable habits that transform their health and lives. Kylee&rsquo\;s approach is rooted in empowering her clients to break old patterns\, develop healthier habits\, and achieve their personal and professional goals through practical\, science-backed strategies.</span></span></p>\n
LOCATION:Kristenwood Catering & Reception Facility 14025 Greenwell Springs Road\, Greenwell Springs\, LA 70739
UID:e.1367.3212
SEQUENCE:3
DTSTAMP:20260420T210258Z
URL:https://business.cityofcentralchamber.com/events/details/investors-monthly-luncheon-01-15-2025-3212
END:VEVENT

END:VCALENDAR
