BEGIN:VCALENDAR
VERSION:2.0
PRODID:-//ChamberMaster//Event Calendar 2.0//EN
METHOD:PUBLISH
X-PUBLISHED-TTL:P3D
REFRESH-INTERVAL:P3D
CALSCALE:GREGORIAN
BEGIN:VEVENT
DTSTART:20250813T163000Z
DTEND:20250813T180000Z
X-MICROSOFT-CDO-ALLDAYEVENT:FALSE
SUMMARY:Investor's Monthly Luncheon
DESCRIPTION:You're Invited: Parish-Wide Update with Mayor-President Sid Edwards\n\nThe City of Central Chamber of Commerce is honored to host Mayor-President Sid Edwards for our annual Parish-Wide Update Luncheon. This event is a valuable opportunity for business leaders\, residents\, and community partners to hear directly from the Mayor-President on the progress\, challenges\, and future plans for our parish.
X-ALT-DESC;FMTTYPE=text/html:<p data-end="283" data-start="212"><span style="font-size:18px\;"><span style="font-family:arial\;"><strong data-end="283" data-start="212">You&#39\;re Invited: Parish-Wide Update with Mayor-President Sid Edwards</strong></span></span></p>\n\n<p data-end="620" data-start="285"><span style="font-size:18px\;"><span style="font-family:arial\;">The City of Central Chamber of Commerce is honored to host <strong data-end="375" data-start="344">Mayor-President Sid Edwards</strong> for our annual <strong data-end="422" data-start="391">Parish-Wide Update Luncheon</strong>. This event is a valuable opportunity for business leaders\, residents\, and community partners to hear directly from the Mayor-President on the progress\, challenges\, and future plans for our parish.</span></span></p>\n
LOCATION:Location: Kristenwood
UID:e.1367.3241
SEQUENCE:3
DTSTAMP:20260420T094637Z
URL:https://business.cityofcentralchamber.com/events/details/investor-s-monthly-luncheon-3241
END:VEVENT

END:VCALENDAR
