BEGIN:VCALENDAR
VERSION:2.0
PRODID:-//ChamberMaster//Event Calendar 2.0//EN
METHOD:PUBLISH
X-PUBLISHED-TTL:P3D
REFRESH-INTERVAL:P3D
CALSCALE:GREGORIAN
BEGIN:VEVENT
DTSTART:20240815T163000Z
DTEND:20240815T180000Z
X-MICROSOFT-CDO-ALLDAYEVENT:FALSE
SUMMARY:Investor's Monthly Luncheon
DESCRIPTION:Join us for a Washington Update from Congressman Garret Graves!\n\n\n\nRSVP by clicking "Register" on the right and we will see you at 11:30 am\, August 15th\, 2024.\n\n\n\nMenu: Prime Rib\, Fried Fish\, Green Beans with New Potatoes\, Mac and Cheese and Cheesecake.\n\n\n\nAll attendees should be pre-registered and pre-paid. Thank you for your cooperation!
X-ALT-DESC;FMTTYPE=text/html:<span style="color:#000000\;"><span style="white-space-collapse: preserve\; box-sizing: border-box\; font-family: arial\; font-size: 16px\;">Join us for a Washington Update from Congressman Garret Graves!<br />\n<br />\nRSVP by clicking &quot\;Register&quot\; on the right and we will see you at 11:30 am\, August 15th\, 2024.</span><br />\n<br />\n<span style="font-size:16px\;"><span style="font-family:arial\;">Menu: Prime Rib\, Fried Fish\, Green Beans with New Potatoes\, Mac and Cheese and Cheesecake.</span></span><br style="white-space-collapse: preserve\; box-sizing: border-box\; font-family: arial\; font-size: 16px\;" />\n<br style="white-space-collapse: preserve\; box-sizing: border-box\; font-family: arial\; font-size: 16px\;" />\n<span style="white-space-collapse: preserve\; box-sizing: border-box\; font-family: arial\; font-size: 16px\;">All attendees should be <span style="box-sizing: border-box\; font-weight: bolder\;">pre-registered and pre-paid. </span>Thank you for your cooperation!</span></span>
LOCATION:Kristenwood Reception 14025 Greenwell Springs Rd
UID:e.1367.3183
SEQUENCE:3
DTSTAMP:20260421T051010Z
URL:https://business.cityofcentralchamber.com/events/details/investor-s-monthly-luncheon-3183
END:VEVENT

END:VCALENDAR
