BEGIN:VCALENDAR
VERSION:2.0
PRODID:-//ChamberMaster//Event Calendar 2.0//EN
METHOD:PUBLISH
X-PUBLISHED-TTL:P3D
REFRESH-INTERVAL:P3D
CALSCALE:GREGORIAN
BEGIN:VEVENT
DTSTART:20240417T163000Z
DTEND:20240417T180000Z
X-MICROSOFT-CDO-ALLDAYEVENT:FALSE
SUMMARY:Investor's Monthly Luncheon
DESCRIPTION:"Is Your Small Business Properly Formed? Documents Necessary for Proper Legal Recognition."\n\n\n\n\n\nRSVP by clicking "Register" on the right and we will see you at 11:30 am\, April 17th\, 2024.\n\n\n\nAll attendees should be pre-registered and pre-paid. Thank you for your cooperation!
X-ALT-DESC;FMTTYPE=text/html:<span style="color: rgb(51\, 51\, 51)\; font-size: 13px\; font-family: aptos\, sans-serif\;"><span style="font-size: 13pt\;">&ldquo\;Is Your Small Business Properly Formed? Documents Necessary for Proper Legal Recognition.&rdquo\;</span></span><br />\n<br style="color: rgb(51\, 51\, 51)\; font-family: sans-serif\, Arial\, Verdana\, &quot\;Trebuchet MS&quot\;\; font-size: 13px\;" />\n<br style="color: rgb(51\, 51\, 51)\; font-family: sans-serif\, Arial\, Verdana\, &quot\;Trebuchet MS&quot\;\; font-size: 13px\;" />\n<span style="white-space-collapse: preserve\; box-sizing: border-box\; font-family: arial\; font-size: 16px\;">RSVP by clicking &quot\;Register&quot\; on the right and we will see you at 11:30 am\, April 17th\, 2024.</span><br style="white-space-collapse: preserve\; box-sizing: border-box\; font-family: arial\; font-size: 16px\;" />\n<br style="white-space-collapse: preserve\; box-sizing: border-box\; font-family: arial\; font-size: 16px\;" />\n<span style="white-space-collapse: preserve\; box-sizing: border-box\; font-family: arial\; font-size: 16px\;">All attendees should be <span style="box-sizing: border-box\; font-weight: bolder\;">pre-registered and pre-paid. </span>Thank you for your cooperation!</span>
LOCATION:Kristenwood Reception 14025 Greenwell Springs Rd
UID:e.1367.3182
SEQUENCE:3
DTSTAMP:20260421T131212Z
URL:https://business.cityofcentralchamber.com/events/details/investor-s-monthly-luncheon-3182
END:VEVENT

END:VCALENDAR
