BEGIN:VCALENDAR
VERSION:2.0
PRODID:-//ChamberMaster//Event Calendar 2.0//EN
METHOD:PUBLISH
X-PUBLISHED-TTL:P3D
REFRESH-INTERVAL:P3D
CALSCALE:GREGORIAN
BEGIN:VEVENT
DTSTART:20241207T200000Z
DTEND:20241208T000000Z
X-MICROSOFT-CDO-ALLDAYEVENT:FALSE
SUMMARY:Holly Jolly Shop the Square
DESCRIPTION:**Join Us for the Holly Jolly Shop the Square!**\n\n\n\nCelebrate the season on December 7th at 2 PM at 13567 Hooper Rd with great shopping\, kids activities\, food trucks\, and the Tree Lighting ceremony all for FREE!\n\n\n\nVendor Registration:\n\n- Chamber Members: $40\n\n- Guest Businesses: $60\n\n- Register: Click "Register" on the right!\n\n\n\nBooth Requirements:\n\n- Bring your own tent and table (10x10 space).\n\n- Tents must be secured and kept clean.\n\n- No power provided.\n\n\n\nImportant Info:\n\n- Check in at the Central Chamber tent.\n\n- Set up by 1:30 PM\; stay until 7 PM.\n\n- Cancellations must be made by November 29 to avoid forfeiting fees.\n\n\n\nDon't miss the holiday cheer see you there!
X-ALT-DESC;FMTTYPE=text/html:<span style="font-size:16px\;"><span style="font-family:arial\;"><strong>**Join Us for the Holly Jolly Shop the Square!**</strong><br />\n<br />\nCelebrate the season on <strong>December 7th at 2 PM </strong>at <strong>13567 Hooper Rd </strong>with great shopping\, kids activities\, food trucks\, and the Tree Lighting ceremony&mdash\;all for <strong>FREE!</strong><br />\n<br />\n<strong>Vendor Registration:</strong><br />\n- Chamber Members: $40<br />\n- Guest Businesses: $60<br />\n- Register: <strong>Click &quot\;Register&quot\;</strong> on the right!<br />\n<br />\n<strong>Booth Requirements:</strong><br />\n- Bring your own tent and table (10x10 space).<br />\n- Tents must be secured and kept clean.<br />\n- No power provided.<br />\n<br />\n<strong>Important Info:</strong><br />\n- Check in at the Central Chamber tent.<br />\n- Set up by 1:30 PM\; stay until 7 PM.<br />\n- Cancellations must be made by November 29 to avoid forfeiting&nbsp\;fees.<br />\n<br />\nDon&rsquo\;t miss the holiday cheer&mdash\;see you there!</span></span>
LOCATION:13567 Hooper Rd Central\, LA 70818
UID:e.1367.3206
SEQUENCE:3
DTSTAMP:20260420T224424Z
URL:https://business.cityofcentralchamber.com/events/details/holly-jolly-shop-the-square-3206
END:VEVENT

END:VCALENDAR
