BEGIN:VCALENDAR
VERSION:2.0
PRODID:-//ChamberMaster//Event Calendar 2.0//EN
METHOD:PUBLISH
X-PUBLISHED-TTL:P3D
REFRESH-INTERVAL:P3D
CALSCALE:GREGORIAN
BEGIN:VEVENT
DTSTART;VALUE=DATE:20200808
DTEND;VALUE=DATE:20200809
TRANSP:TRANSPARENT
X-MICROSOFT-CDO-ALLDAYEVENT:TRUE
SUMMARY:Hello Local Giveaway!
DESCRIPTION:On June 8\, the Hello Local campaign launched a giveaway to encourage people to shop & use Central businesses. If you would like your store or business to be included\, please register.\n\n\n\nPrize: Winners choice of an iPhone 11 or Louis Vuitton "Speedy" bag.\n\n\n\nHow to enter the giveaway: \n\n1) Spend $10 or more at a participating Central Business.\n\n2) Fill out an entry card which the business will provide.\n\n3) "Check-in" at the business on Facebook OR tag the business in a post on Instagram. *Note: Your Facebook post or Instagram account MUST be public or we will be unable to verify your entry.*\n\n4) In your Facebook check-in or Instagram post\, use hashtag #HelloLocalCentral\n\n*Online shoppers do qualify for entries if they follow posting rules & request the participating business to fill out an entry card on their behalf.*\n\n\n\nHow to register your business: Just click the "Register" button on the right-hand side of your screen. We will deliver entry cards and fliers to you and also list you as a participant in this event.\n\n\n\nParticipating Businesses: will receive entry cards from the Chamber. For any purchase of $10 or more at a participating business a customer may fill out an entry card. Participating businesses will collect the cards until August 8 and then turn them into the Chamber.\n\n\n\nBusinesses may honor online purchases of $10 or more by filling out an entry card on behalf of their customers. \n\n\n\nParticipating businesses will also receive flyers to display explaining how shopping local reinvests money into the Central Schools and City. \n\n\n\nMore info about Hello Local: The Central Chamber's Hello Local campaign is highlighting the importance of shopping and supporting our local economy. \n\n \n\nWe are filming videos for businesses as they reopen. You can see the businesses we have visited so far on our Facebook page. If you are interested in filming one\, contact Alexis at (225) 261-5818 or alexis@cityofcentralchamber.com.\n\n\n\nParticipating Businesses - Shop here to enter! \n\n\n	AA Mini Storage\n	Air Control Heating & Air\n	Alpha Air\n	Bellingrath Pharmacy\n	Blend Boutique\n	Bombshell Boutique\n	Caliber Flooring\n	Central City Antiques\n	Central City Steak & Seafood\n	Central Cross Threads\n	Central Pest & Garden Supply\n	Central Pharmacy\n	Central Spine & Sports Rehab\n	City Central Nutrition\n	Computer Evolutions\n	Danielle's Haircut Garage\n	Emily Camtu Couture\n	Girasole\n	Gotham Archery\n	Holey Good Donut\n	Keith's Pro Paint & Body Shop\n	Laurianne Gray Lipari Agency\n	Louis Mechanical Contractors\n	MePa's\n	Movement Fitness\n	Old Path's Natural Market\n	Once N Again\n	Rogers Regional Eye Center\n	Ross Tire\n	Sherman Balhoff Orthodontics\n	Sherwin-Williams\n	Smooch My Pooch\n	Southern Charm\n	Southern Spa Essentials\n	Spectrum Fitness\n	Stab's Steak & Seafood\n	Sullivan's Ace Hardware\n	The Looking Glass\n	The Spectacle\n	Wingstop Central
X-ALT-DESC;FMTTYPE=text/html:<span style="font-family:arial\;"><span style="color: rgb(0\, 0\, 0)\;">On June 8\, the Hello Local campaign launched a giveaway to encourage people to shop &amp\; use Central businesses. If you would like your store or business to be included\, please register.<br />\n<br />\n<strong>Prize:&nbsp\;</strong>Winners choice of an iPhone 11 or Louis Vuitton &quot\;Speedy&quot\; bag.<br />\n<br />\n<strong>How to enter the giveaway:&nbsp\;<br />\n1)&nbsp\;</strong>Spend $10 or more at a participating Central Business.<br />\n<strong>2) </strong>Fill out an entry card which the business will provide.<br />\n<strong>3)</strong> &quot\;Check-in&quot\; at the business on Facebook OR tag the business in a post on Instagram. *Note: Your Facebook post or Instagram account MUST be public or we will be unable to verify your entry.*<br />\n<strong>4)</strong> In your Facebook check-in or Instagram post\, use hashtag #HelloLocalCentral<br />\n*Online shoppers do qualify for entries if they follow posting rules &amp\; request the participating business to fill out an entry card on their behalf.*<br />\n<br />\n<strong>How to register your business: </strong>Just click the &quot\;Register&quot\; button on the right-hand side of your screen. We will deliver entry cards and fliers to you and also list you as a participant in this event.<br />\n<br />\n<strong>Participating Businesses:</strong>&nbsp\;will receive entry cards from the Chamber. For any purchase of $10 or more at a participating business a customer may fill out an entry card. Participating businesses will collect the cards until August 8 and then turn them into the Chamber.</span><br century="" font-size:="" style="color: rgb(0\, 0\, 0)\; font-family: " />\n<br century="" font-size:="" style="color: rgb(0\, 0\, 0)\; font-family: " />\n<span style="color: rgb(0\, 0\, 0)\;">Businesses may honor online purchases of $10 or more by filling out an entry card on behalf of their customers.&nbsp\;</span><br century="" font-size:="" style="color: rgb(0\, 0\, 0)\; font-family: " />\n<br century="" font-size:="" style="color: rgb(0\, 0\, 0)\; font-family: " />\n<span style="color: rgb(0\, 0\, 0)\;">Participating businesses will also receive flyers to display explaining how shopping local reinvests money into the Central Schools and City.&nbsp\;</span><br />\n<br />\n<span style="color:#0E101A\;"><span style="font-size:10.5pt\;"><strong>More info about Hello Local:&nbsp\;</strong>The Central Chamber&#39\;s Hello Local campaign is highlighting the importance of shopping and supporting our local economy. </span></span><br />\n&nbsp\;<br />\n<span style="color:#0E101A\;"><span style="font-size:10.5pt\;">We are filming videos for businesses as they reopen. You can see the businesses we have visited so far </span></span><span style="color:#7E7E7E\;"><span style="font-size:12.0pt\;"><a href="http://r20.rs6.net/tn.jsp?f=001E2tZ4mVmYVp101P16H_WoYd8BO7sEYVb6w9815IOd6cr4U65TwfY7P5O7vZec7QhY3qptbgsAEUzyzCiTqHRPYg0LILyT8rAxYZaC5ur8Zu1MCEFf9JIv10jynjPfCUjiOjsbPdVA7D665L1tEDzJhmf9GvEyPooxnrtiWNXs-c9kYrdPfj1cQ==&amp\;c=9XaJHko5sRG7jU-LATLzkRSl5t4j3PzVxKx-1koSUC6_CrTMJeeCXQ==&amp\;ch=LpCnhNYUFszKQMb3m3P8zKVkwHMCA5Mb29A9shwGT_I5dAiaJq8OkQ==" target="_blank"><strong><span style="color:#0E101A\;"><span style="font-size:10.5pt\;">on our Facebook page.</span></span></strong></a></span></span><span style="color:#0E101A\;"><span style="font-size:10.5pt\;"> If you are interested in filming one\, contact Alexis at (225) 261-5818 or </span></span><span style="color:#7E7E7E\;"><span style="font-size:12.0pt\;"><strong><span style="color:#0E101A\;"><span style="font-size:10.5pt\;"><a href="mailto:alexis@cityofcentralchamber.com" target="_blank">alexis@cityofcentralchamber.c</a>om.<br />\n<br />\nParticipating Businesses - Shop here to enter!&nbsp\;</span></span></strong></span></span></span>\n\n<ul>\n	<li><strong><span style="font-size:14px\;"><span style="font-family:arial\;">AA Mini Storage</span></span></strong></li>\n	<li><strong><span style="font-size:14px\;"><span style="font-family:arial\;">Air Control Heating &amp\; Air</span></span></strong></li>\n	<li><strong><span style="font-size:14px\;"><span style="font-family:arial\;">Alpha Air</span></span></strong></li>\n	<li><strong><span style="font-size:14px\;"><span style="font-family:arial\;">Bellingrath Pharmacy</span></span></strong></li>\n	<li><strong><span style="font-size:14px\;"><span style="font-family:arial\;">Blend Boutique</span></span></strong></li>\n	<li><strong><span style="font-size:14px\;"><span style="font-family:arial\;">Bombshell Boutique</span></span></strong></li>\n	<li><strong><span style="font-size:14px\;"><span style="font-family:arial\;">Caliber Flooring</span></span></strong></li>\n	<li><strong><span style="font-size:14px\;"><span style="font-family:arial\;">Central City Antiques</span></span></strong></li>\n	<li><strong><span style="font-size:14px\;"><span style="font-family:arial\;">Central City Steak &amp\; Seafood</span></span></strong></li>\n	<li><strong><span style="font-size:14px\;"><span style="font-family:arial\;">Central Cross Threads</span></span></strong></li>\n	<li><strong><span style="font-size:14px\;"><span style="font-family:arial\;">Central Pest &amp\; Garden Supply</span></span></strong></li>\n	<li><strong><span style="font-size:14px\;"><span style="font-family:arial\;">Central Pharmacy</span></span></strong></li>\n	<li><strong><span style="font-size:14px\;"><span style="font-family:arial\;">Central Spine &amp\; Sports Rehab</span></span></strong></li>\n	<li><strong><span style="font-size: 14px\;"><span style="font-family: arial\;">City Central Nutrition</span></span></strong></li>\n	<li><strong><span style="font-size:14px\;"><span style="font-family:arial\;">Computer Evolutions</span></span></strong></li>\n	<li><strong><span style="font-size:14px\;"><span style="font-family:arial\;">Danielle&#39\;s Haircut Garage</span></span></strong></li>\n	<li><strong><span style="font-size:14px\;"><span style="font-family:arial\;">Emily Camtu Couture</span></span></strong></li>\n	<li><strong><span style="font-size:14px\;"><span style="font-family:arial\;">Girasole</span></span></strong></li>\n	<li><strong><span style="font-size:14px\;"><span style="font-family:arial\;">Gotham Archery</span></span></strong></li>\n	<li><strong><span style="font-size:14px\;"><span style="font-family:arial\;">Holey Good Donut</span></span></strong></li>\n	<li><strong><span style="font-size:14px\;"><span style="font-family:arial\;">Keith&#39\;s Pro Paint &amp\; Body Shop</span></span></strong></li>\n	<li><strong><span style="font-size:14px\;"><span style="font-family:arial\;">Laurianne Gray Lipari Agency</span></span></strong></li>\n	<li><strong><span style="font-size:14px\;"><span style="font-family:arial\;">Louis Mechanical Contractors</span></span></strong></li>\n	<li><strong><span style="font-size:14px\;"><span style="font-family:arial\;">MePa&#39\;s</span></span></strong></li>\n	<li><strong><span style="font-size:14px\;"><span style="font-family:arial\;">Movement Fitness</span></span></strong></li>\n	<li><strong><span style="font-size:14px\;"><span style="font-family:arial\;">Old Path&#39\;s Natural Market</span></span></strong></li>\n	<li><strong><span style="font-size:14px\;"><span style="font-family:arial\;">Once N Again</span></span></strong></li>\n	<li><strong><span style="font-size:14px\;"><span style="font-family:arial\;">Rogers Regional Eye Center</span></span></strong></li>\n	<li><strong><span style="font-size:14px\;"><span style="font-family:arial\;">Ross Tire</span></span></strong></li>\n	<li><strong><span style="font-size:14px\;"><span style="font-family:arial\;">Sherman Balhoff Orthodontics</span></span></strong></li>\n	<li><strong><span style="font-size:14px\;"><span style="font-family:arial\;">Sherwin-Williams</span></span></strong></li>\n	<li><strong><span style="font-size:14px\;"><span style="font-family:arial\;">Smooch My Pooch</span></span></strong></li>\n	<li><strong><span style="font-size:14px\;"><span style="font-family:arial\;">Southern Charm</span></span></strong></li>\n	<li><strong><span style="font-size:14px\;"><span style="font-family:arial\;">Southern Spa Essentials</span></span></strong></li>\n	<li><strong><span style="font-size:14px\;"><span style="font-family:arial\;">Spectrum Fitness</span></span></strong></li>\n	<li><strong><span style="font-size:14px\;"><span style="font-family:arial\;">Stab&#39\;s Steak &amp\; Seafood</span></span></strong></li>\n	<li><strong><span style="font-size:14px\;"><span style="font-family:arial\;">Sullivan&#39\;s Ace Hardware</span></span></strong></li>\n	<li><strong><span style="font-size:14px\;"><span style="font-family:arial\;">The Looking Glass</span></span></strong></li>\n	<li><strong><span style="font-size:14px\;"><span style="font-family:arial\;">The Spectacle</span></span></strong></li>\n	<li><strong><span style="font-size:14px\;"><span style="font-family:arial\;">Wingstop Central&nbsp\;</span></span></strong></li>\n</ul>\n
LOCATION:Any participating Central Business. Please refer to the "Participating Businesses" list.
UID:e.1367.2956
SEQUENCE:3
DTSTAMP:20260424T142605Z
URL:https://business.cityofcentralchamber.com/events/details/hello-local-giveaway-2956
END:VEVENT

END:VCALENDAR
