BEGIN:VCALENDAR
VERSION:2.0
PRODID:-//ChamberMaster//Event Calendar 2.0//EN
METHOD:PUBLISH
X-PUBLISHED-TTL:P3D
REFRESH-INTERVAL:P3D
CALSCALE:GREGORIAN
BEGIN:VEVENT
DTSTART:20200730T150000Z
DTEND:20200730T210000Z
X-MICROSOFT-CDO-ALLDAYEVENT:FALSE
SUMMARY:Healthcare Job Fair
DESCRIPTION:Follow Your Passion...\nAre you a Nurse\, Resident Assistant or CNA looking for a job? \n\n\n\nCome to our job fair! \n\n\n\n9750 Couret Dr\n\nCentral\, LA 70818\n\n\n\nThursday\, July 30\, 2020\n\nFrom 10 am to 4 pm
X-ALT-DESC;FMTTYPE=text/html:<h2 style="font-style:italic\;">Follow Your Passion...</h2>\nAre you a Nurse\, Resident Assistant or CNA looking for a job?&nbsp\;<br />\n<br />\nCome to our job fair!&nbsp\;<br />\n<br />\n9750 Couret Dr<br />\nCentral\, LA 70818<br />\n<br />\nThursday\, July 30\, 2020<br />\nFrom 10 am to 4 pm
LOCATION:9750 Couret Dr Central\, LA 70818
UID:e.1367.2960
SEQUENCE:3
DTSTAMP:20260424T155527Z
URL:https://business.cityofcentralchamber.com/events/details/healthcare-job-fair-2960
END:VEVENT

END:VCALENDAR
