BEGIN:VCALENDAR
VERSION:2.0
PRODID:-//ChamberMaster//Event Calendar 2.0//EN
METHOD:PUBLISH
X-PUBLISHED-TTL:P3D
REFRESH-INTERVAL:P3D
CALSCALE:GREGORIAN
BEGIN:VEVENT
DTSTART:20211009T210000Z
DTEND:20211009T230000Z
X-MICROSOFT-CDO-ALLDAYEVENT:FALSE
SUMMARY:Halloween Hop at Central Square
DESCRIPTION:Hop on over to the SPOOKTACULAR Halloween Hop at Central Square!\n\n\n\nStart at Java Mama to receive your map and hop to the businesses in Central Square that are participating!\n\n\n\nCOSTUME CONTEST   PUMPKIN PAINTING   TREATS/CANDY   FREE PLAY DURING EVENT
X-ALT-DESC;FMTTYPE=text/html:<br />\n<span style="font-size:16px\;">Hop on over to the SPOOKTACULAR Halloween Hop at Central Square!<br />\n<br />\nStart at Java Mama to receive your map and hop to the businesses in Central Square that are participating!<br />\n<br />\nCOSTUME CONTEST &bull\; PUMPKIN PAINTING &bull\; TREATS/CANDY &bull\; FREE PLAY DURING EVENT</span>
LOCATION:Start at Java Mama to receive your map and hop to the businesses in Central Square that are participating! 14340 Wax Rd\, Unit 101 Central\, LA 70818
UID:e.1367.3010
SEQUENCE:3
DTSTAMP:20260423T172557Z
URL:https://business.cityofcentralchamber.com/events/details/halloween-hop-at-central-square-3010
END:VEVENT

END:VCALENDAR
