BEGIN:VCALENDAR
VERSION:2.0
PRODID:-//ChamberMaster//Event Calendar 2.0//EN
METHOD:PUBLISH
X-PUBLISHED-TTL:P3D
REFRESH-INTERVAL:P3D
CALSCALE:GREGORIAN
BEGIN:VEVENT
DTSTART:20220507T003000Z
DTEND:20220507T030000Z
X-MICROSOFT-CDO-ALLDAYEVENT:FALSE
SUMMARY:GSYR Pro Rodeo
DESCRIPTION:64th Annual \n\nGSYR Pro Rodeo\n\nMay 6th & 7th\, 2022 \n\nRodeo 7:30 PM\n\nRanch Style Saddle\, Bronc Riding\, Bull Riding\, Calf Roping\n\nPerformance by the Greenwell Springs Youth Riders \n\nBreakaway Roping\, Team Roping\, Trick Rider\, Barrel Racing\n\n\n\n Saturday Morning : 8 AM - Rodeo Queen Contest\n\n Saturday Night:  Rodeo Queen Presentation (During Rodeo)
X-ALT-DESC;FMTTYPE=text/html:<p align="center" style="color: rgb(34\, 34\, 34)\; font-family: &quot\;Trebuchet MS&quot\;\, &quot\;Myriad Pro&quot\;\, Tahoma\, sans-serif\; font-size: 12px\;"><font size="6"><b><font face="Arial Black">64th</font>&nbsp\;</b></font><font face="Arial Black" size="6">Annual&nbsp\;</font></p>\n\n<p align="center" style="color: rgb(34\, 34\, 34)\; font-family: &quot\;Trebuchet MS&quot\;\, &quot\;Myriad Pro&quot\;\, Tahoma\, sans-serif\; font-size: 12px\;"><b><font face="Arial Black" size="6">GSYR Pro Rodeo</font></b><br />\n<font face="Arial Black" size="6">May 6th &amp\; 7th\, 2022&nbsp\;</font><br />\n<b style="color: rgb(0\, 0\, 255)\; font-size: x-large\; text-align: start\;"><u>Rodeo 7:30 PM</u></b></p>\n\n<p align="center" style="color: rgb(34\, 34\, 34)\; font-family: &quot\;Trebuchet MS&quot\;\, &quot\;Myriad Pro&quot\;\, Tahoma\, sans-serif\; font-size: 12px\;"><span style="color: rgb(0\, 0\, 255)\; font-size: x-large\; text-align: start\;">Ranch Style Saddle\, Bronc Riding\, Bull Riding\,&nbsp\;</span><font color="#0000ff" size="5">Calf Roping</font></p>\n\n<p align="center" style="color: rgb(34\, 34\, 34)\; font-family: &quot\;Trebuchet MS&quot\;\, &quot\;Myriad Pro&quot\;\, Tahoma\, sans-serif\; font-size: 12px\;"><font color="#ff0000" size="5"><b>Performance by the Greenwell Springs Youth Riders</b></font>&nbsp\;</p>\n\n<p align="center" style="color: rgb(34\, 34\, 34)\; font-family: &quot\;Trebuchet MS&quot\;\, &quot\;Myriad Pro&quot\;\, Tahoma\, sans-serif\; font-size: 12px\;"><span style="color: rgb(0\, 0\, 255)\; font-size: x-large\; text-align: start\;">Breakaway Roping\, Team Roping\,&nbsp\;</span><font color="#0000ff" size="5">Trick Rider\,&nbsp\;</font><span style="color: rgb(0\, 0\, 255)\; font-size: x-large\;">Barrel Racing</span><br />\n<br />\n<span style="text-align: start\;">&nbsp\;</span><b style="text-align: start\; color: rgb(0\, 0\, 255)\; font-size: x-large\;"><u>Saturday Morning :</u>&nbsp\;</b><span style="color: rgb(0\, 0\, 255)\; font-size: x-large\;">8 AM - Rodeo Queen Contest</span></p>\n\n<p align="center" style="color: rgb(34\, 34\, 34)\; font-family: &quot\;Trebuchet MS&quot\;\, &quot\;Myriad Pro&quot\;\, Tahoma\, sans-serif\; font-size: 12px\;"><span style="color: rgb(14\, 14\, 14)\; font-size: large\; text-align: start\;">&nbsp\;</span><b style="text-align: start\; color: rgb(0\, 0\, 255)\; font-size: x-large\;"><u>Saturday Night:</u></b>&nbsp\;&nbsp\;<font color="#0000ff" size="5">Rodeo Queen Presentation&nbsp\;</font><span style="color: rgb(14\, 14\, 14)\; font-family: &quot\;Trebuchet MS&quot\;\, &quot\;Myriad Pro&quot\;\, Tahoma\, sans-serif\; font-size: large\;">(During Rodeo)</span></p>\n\n<p align="center" style="color: rgb(34\, 34\, 34)\; font-family: &quot\;Trebuchet MS&quot\;\, &quot\;Myriad Pro&quot\;\, Tahoma\, sans-serif\; font-size: 12px\;">&nbsp\;</p>\n
LOCATION:BREC Shady Park Arena\, Greenwell Springs\, LA
UID:e.1367.3061
SEQUENCE:3
DTSTAMP:20260423T042427Z
URL:https://business.cityofcentralchamber.com/events/details/gsyr-pro-rodeo-3061
END:VEVENT

END:VCALENDAR
