BEGIN:VCALENDAR
VERSION:2.0
PRODID:-//ChamberMaster//Event Calendar 2.0//EN
METHOD:PUBLISH
X-PUBLISHED-TTL:P3D
REFRESH-INTERVAL:P3D
CALSCALE:GREGORIAN
BEGIN:VEVENT
DTSTART:20251027T150000Z
DTEND:20251027T220000Z
X-MICROSOFT-CDO-ALLDAYEVENT:FALSE
SUMMARY:Golf Scramble - Swing Pink
DESCRIPTION:Join us for the City of Central Chamber of Commerce Golf Scramble - Swing Pink   a day of fun\, networking\, and giving back!   \n \n\nWhether you're a golfer\, sponsor\, or just want to support a great cause\, we've got a spot for you on the green.  \n\n \n\n10% of all funds raised will be donated to Ochsner MD Anderson Cancer Center!
X-ALT-DESC;FMTTYPE=text/html:<span style="font-size:18px\;"><span style="font-family:tahoma\;">Join us for the <strong data-end="304" data-start="251">City of Central Chamber of Commerce <span style="color:#EE82EE\;">Golf Scramble - Swing Pink</span></strong><span style="color:#EE82EE\;"> </span>&ndash\; a day of fun\, networking\, and giving back! &#9971\;&#128151\;</span></span>\n<div>&nbsp\;</div>\n\n<div><span style="font-size:18px\;"><span style="font-family:tahoma\;">Whether you&#39\;re a golfer\, sponsor\, or just want to support a great cause\, we&rsquo\;ve got a spot for you on the green. &#128151\;</span></span></div>\n\n<div>&nbsp\;</div>\n\n<div><span style="font-size:18px\;"><span style="font-family:tahoma\;">10% of all funds raised will be donated to Ochsner MD Anderson Cancer Center!</span></span></div>\n
LOCATION:Location: Beaver Creek Golf Course 1100 Plains-Port Hudson Rd\, Zachary\, LA 70791
UID:e.1367.3236
SEQUENCE:3
DTSTAMP:20260420T054938Z
URL:https://business.cityofcentralchamber.com/events/details/golf-scramble-swing-pink-3236
END:VEVENT

END:VCALENDAR
