BEGIN:VCALENDAR
VERSION:2.0
PRODID:-//ChamberMaster//Event Calendar 2.0//EN
METHOD:PUBLISH
X-PUBLISHED-TTL:P3D
REFRESH-INTERVAL:P3D
CALSCALE:GREGORIAN
BEGIN:VEVENT
DTSTART:20211029T210000Z
DTEND:20211030T010000Z
X-MICROSOFT-CDO-ALLDAYEVENT:FALSE
SUMMARY:Full Moon Fete + Trunk & Treat
DESCRIPTION:Full Moon Fete\n\nTrunk & Treat\n\nPresented by Ochsner Health\n\nTRUNK AND TREAT TRAIL + HALLOWEEN MOVIES ON THE BIG SCREEN + CHARACTER VISITS + FOOD + LIVE MUSIC + GIVEAWAYS + RAFFLE + MORE! \n\n\nOct. 29 \n\nBegins at 4 pm\n\nThe Peyton Flagoust Band from 5 - 8 pm\n\n\n\nForrest Community Park\n\nCostumes encouraged! \n\n\n\nAll monetary donations will go to the BREC Foundation's "Send a Kid to Camp" initiative. \n\n\n\nBring 5 canned good items to any BREC community event in October and be entered in a drawing (5 cans = 1 entry). All donations will go to the Greater Baton Rouge Food Bank.\n\n\n\nMovie Titles + Times can be found at brec.org/fullmoonfete\n\n\n\nFor businesses: \n\nWhat is a Trunk + Treat? Instead of Trick or Treating from door to door\, Trunk and Treats are a free\, safe and unique way for kids to trick-or-treat by going car to car to collect candy from each decorated trunk! In addition to the Trunk and Treat Trail\, there will be live music\, food\, characters\, movies and more at this year's event.\n\n\n\nTrunk + Treat Details: The entire event is being put on for free\, at no cost to attendees.\n\n\n\nThere is no cost for a business or individual to participate\, except the cost of the treats you'll distribute from your trunk. Make sure you have enough candy and/or giveaways to last the entirety of the event. We anticipate there will be 1\,000-1\,500 kids in attendance and would recommend you plan to distribute at least 1 item per person. Businesses may distribute promotional items in lieu of or in addition to distributing candy. \n\n\n\nTrunks can be decorated\, and costumes are encouraged - in fact\, there will be prizes for the best trunks at the event! \n\n\n\nIn addition to having your trunk and treats\, you'll also need staff or friends/family to distribute the goodies to the kids. One person must be present at your trunk during the event. \n\n\n\nThe event will be COVID Safe - gloves/hand sanitizer will be provided to all trunks by the BREC Foundation. \n\n\n\nMaximum of 100 trunks available to participate\, so be sure to sign up early to reserve your space! \n\n\n\nTo sign up email cstages@brec.org.
X-ALT-DESC;FMTTYPE=text/html:<div style="text-align: center\;"><span style="font-size:16px\;"><strong>Full Moon Fete<br />\nTrunk &amp\; Treat</strong><br />\nPresented by Ochsner Health<br />\nTRUNK AND TREAT TRAIL + HALLOWEEN MOVIES ON THE BIG SCREEN + CHARACTER VISITS + FOOD + LIVE MUSIC + GIVEAWAYS + RAFFLE + MORE!&nbsp\;</span></div>\n<br />\n<span style="font-size:16px\;"><strong>Oct. 29&nbsp\;</strong><br />\nBegins at 4 pm<br />\nThe Peyton Flagoust Band from 5 - 8 pm<br />\n<br />\n<strong>Forrest Community Park<br />\nCostumes encouraged!&nbsp\;</strong><br />\n<br />\nAll monetary donations will go to the BREC Foundation&#39\;s &quot\;Send a Kid to Camp&quot\; initiative.&nbsp\;<br />\n<br />\nBring 5 canned good items to any BREC community event in October and be entered in a drawing (5 cans = 1 entry). All donations will go to the Greater Baton Rouge Food Bank.<br />\n<br />\nMovie Titles + Times can be found at brec.org/fullmoonfete<br />\n<br />\n<strong>For businesses:&nbsp\;</strong><br />\n<em>What is a Trunk + Treat?&nbsp\;</em>Instead of Trick or Treating from door to door\, Trunk and Treats are a free\, safe and unique way for kids to trick-or-treat by going car to car to collect candy from each decorated trunk! In addition to the Trunk and Treat Trail\, there will be live music\, food\, characters\, movies and more at this year&#39\;s event.<br />\n<br />\n<em>Trunk + Treat Details:&nbsp\;</em>The entire event is being put on for free\, at no cost to attendees.<br />\n<br />\nThere is no cost for a business or individual to participate\, except the cost of the treats you&#39\;ll distribute from your trunk. Make sure you have enough candy and/or giveaways to last the entirety of the event. We anticipate there will be 1\,000-1\,500 kids in attendance and would recommend you plan to distribute at least 1 item per person. Businesses may distribute promotional items in lieu of or in addition to distributing candy.&nbsp\;<br />\n<br />\nTrunks can be decorated\, and costumes are encouraged - in fact\, there will be prizes for the best trunks at the event!&nbsp\;<br />\n<br />\nIn addition to having your trunk and treats\, you&#39\;ll also need staff or friends/family to distribute the goodies to the kids. One person must be present at your trunk during the event.&nbsp\;<br />\n<br />\nThe event will be COVID Safe - gloves/hand sanitizer will be provided to all trunks by the BREC Foundation.&nbsp\;<br />\n<br />\nMaximum of 100 trunks available to participate\, so be sure to sign up early to reserve your space!&nbsp\;<br />\n<br />\nTo sign up email cstages@brec.org.</span>
LOCATION:Forrest Community Park
UID:e.1367.3016
SEQUENCE:3
DTSTAMP:20260423T173346Z
URL:https://business.cityofcentralchamber.com/events/details/full-moon-fete-trunk-treat-3016
END:VEVENT

END:VCALENDAR
