BEGIN:VCALENDAR
VERSION:2.0
PRODID:-//ChamberMaster//Event Calendar 2.0//EN
METHOD:PUBLISH
X-PUBLISHED-TTL:P3D
REFRESH-INTERVAL:P3D
CALSCALE:GREGORIAN
BEGIN:VEVENT
DTSTART:20220401T210000Z
DTEND:20220402T010000Z
X-MICROSOFT-CDO-ALLDAYEVENT:FALSE
SUMMARY:Food Truck Round Up
DESCRIPTION:Join us for a taste of Central food truck cuisine! Roll into the Journey Church parking lot for an outdoor food court with something for everyone!\n\n\n\nIf you have a food truck and want to participate - click the "Register" button to the right and we will be in touch!\n\n\n*** Food Trucks ***\nEvent Guidelines:\n\n\n	Please arrive early and be set up no later than 3:30 pm\n	No alcohol sales will be allowed\n	No smoking on-premises\n	No explicit music\n\n\nIf you need access to electricity please let us know ASAP so we can find out if that can be accommodated\n\n \n\nIf you need to cancel for any reason please let us know ASAP. We are promoting this event based on the number of vendors committed to coming.\n\n \n\nShare share share! We know you all have great followings a link to share with all of your followers will be coming soon. The more the merrier!
X-ALT-DESC;FMTTYPE=text/html:<span style="font-family:arial\;"><span style="font-size:14px\;">Join us for a taste of Central food truck cuisine! Roll into the Journey Church parking lot for an outdoor food court with something for everyone!<br />\n<br />\nIf you have a food truck and want to participate - click the &quot\;Register&quot\; button to the right and we will be in touch!</span></span>\n<div style="text-align: center\;"><br />\n<span style="font-family:arial\;"><span style="font-size:14px\;"><strong>*** Food Trucks ***</strong></span></span>\n<div style="text-align: left\;"><span style="font-family:arial\;"><span style="font-size:14px\;"><strong style="font-size: 14px\;">Event Guidelines:</strong></span></span></div>\n\n<ul style="font-size: 14px\;">\n	<li style="text-align: left\;"><span style="font-family:arial\;"><span style="font-size:14px\;">Please arrive early and be set up no later than 3:30 pm</span></span></li>\n	<li style="text-align: left\;"><span style="font-family:arial\;"><span style="font-size:14px\;">No alcohol sales will be allowed</span></span></li>\n	<li style="text-align: left\;"><span style="font-family:arial\;"><span style="font-size:14px\;">No smoking on-premises</span></span></li>\n	<li style="text-align: left\;"><span style="font-family:arial\;"><span style="font-size:14px\;">No explicit music</span></span></li>\n</ul>\n\n<div style="text-align: left\;"><span style="font-family:arial\;"><span style="font-size:14px\;">If you need access to electricity please let us know ASAP so we can find out if that can be accommodated<br style="font-size: 14px\;" />\n&nbsp\;<br style="font-size: 14px\;" />\nIf you need to cancel for any reason please let us know ASAP. We are promoting this event based on the number of vendors committed to coming.<br style="font-size: 14px\;" />\n&nbsp\;<br style="font-size: 14px\;" />\nShare share share! We know you all have great followings a link to share with all of your followers will be coming soon. The more the merrier!</span></span></div>\n</div>\n
LOCATION:Journey Church Central Campus Parking Lot 17407 Greenwell Springs Rd Greenwell Springs\, LA 70739
UID:e.1367.3034
SEQUENCE:3
DTSTAMP:20260423T055743Z
URL:https://business.cityofcentralchamber.com/events/details/food-truck-round-up-3034
END:VEVENT

END:VCALENDAR
