BEGIN:VCALENDAR
VERSION:2.0
PRODID:-//ChamberMaster//Event Calendar 2.0//EN
METHOD:PUBLISH
X-PUBLISHED-TTL:P3D
REFRESH-INTERVAL:P3D
CALSCALE:GREGORIAN
BEGIN:VEVENT
DTSTART:20220527T150000Z
DTEND:20220527T160000Z
X-MICROSOFT-CDO-ALLDAYEVENT:FALSE
SUMMARY:Fig and Sparrow Ribbon Cutting
DESCRIPTION:Come Celebrate the Grand Opening of\n\nFig & Sparrow\n\nFig & Sparrow will open as a gift store and will provide everything from home decor\, stationary\, baby items\, apparel and so much more!
X-ALT-DESC;FMTTYPE=text/html:<div style="text-align: center\;"><font face="verdana"><span style="font-size: 18px\;"><b>Come Celebrate the Grand Opening of<br />\nFig &amp\; Sparrow</b></span></font><br />\n<span style="color: rgb(5\, 5\, 5)\; font-family: &quot\;Segoe UI Historic&quot\;\, &quot\;Segoe UI&quot\;\, Helvetica\, Arial\, sans-serif\; font-size: 15px\; white-space: pre-wrap\;">Fig &amp\; Sparrow will open as a gift store and will provide everything from home decor\, stationary\, baby items\, apparel and so much more! </span></div>\n
LOCATION:13623 Hooper Road Suite G Baton Rouge\, LA 70818
UID:e.1367.3065
SEQUENCE:3
DTSTAMP:20260423T042449Z
URL:https://business.cityofcentralchamber.com/events/details/fig-and-sparrow-ribbon-cutting-3065
END:VEVENT

END:VCALENDAR
