BEGIN:VCALENDAR
VERSION:2.0
PRODID:-//ChamberMaster//Event Calendar 2.0//EN
METHOD:PUBLISH
X-PUBLISHED-TTL:P3D
REFRESH-INTERVAL:P3D
CALSCALE:GREGORIAN
BEGIN:VEVENT
DTSTART;VALUE=DATE:20220318
DTEND;VALUE=DATE:20220319
TRANSP:TRANSPARENT
X-MICROSOFT-CDO-ALLDAYEVENT:TRUE
SUMMARY:Education Sponsorship Deadline
DESCRIPTION:It's that time of year again!\n\n\n\n2022 scholarship applications will be available here soon.\n\n\n\nLast year we awarded $1250 in scholarships as well as taking part in the Student and Teacher of the Year recognitions.\n\n \n\nYOU can be a part of that. Education sponsorships are now open!\n\n \n\nIf you would like to be a part of supporting Central Students in their career and study goals by sponsoring the education program click "Register" on the right and select the level you would like to participate at.
X-ALT-DESC;FMTTYPE=text/html:<div style="color: rgb(126\, 126\, 126)\; font-family: &quot\;Century Gothic&quot\;\, Calibri\, Helvetica\, Arial\, sans-serif\; font-size: 16px\;"><span style="font-family:arial\;"><span style="color: rgb(0\, 0\, 0)\;">It&#39\;s that time of year again!<br />\n<br />\n2022 scholarship applications will be available here soon.<br />\n<br />\nLast year we awarded $1250 in scholarships as well as taking part in the Student and Teacher of the Year recognitions.</span></span></div>\n\n<div style="color: rgb(126\, 126\, 126)\; font-family: &quot\;Century Gothic&quot\;\, Calibri\, Helvetica\, Arial\, sans-serif\; font-size: 16px\;">&nbsp\;</div>\n\n<div style="color: rgb(126\, 126\, 126)\; font-family: &quot\;Century Gothic&quot\;\, Calibri\, Helvetica\, Arial\, sans-serif\; font-size: 16px\;"><span style="font-family:arial\;"><span style="color: rgb(0\, 0\, 0)\;"><strong>YOU can be a part of that. </strong>Education sponsorships are now open!</span></span></div>\n\n<div align="center" style="color: rgb(126\, 126\, 126)\; font-family: &quot\;Century Gothic&quot\;\, Calibri\, Helvetica\, Arial\, sans-serif\; font-size: 16px\; text-align: center\;">&nbsp\;</div>\n\n<div style="color: rgb(126\, 126\, 126)\; font-family: &quot\;Century Gothic&quot\;\, Calibri\, Helvetica\, Arial\, sans-serif\; font-size: 16px\;"><span style="font-family:arial\;"><span style="color: rgb(0\, 0\, 0)\;">If you would like to be a part of supporting Central Students in their career and study goals by sponsoring the education program click &quot\;Register&quot\; on the right and select the level you would like to participate at.&nbsp\;</span></span></div>\n
LOCATION:You will find the application here as soon as it is published. There will be a scholarship award banquet. Details will be published here.
UID:e.1367.3003
SEQUENCE:3
DTSTAMP:20260423T072837Z
URL:https://business.cityofcentralchamber.com/events/details/education-sponsorship-deadline-3003
END:VEVENT

END:VCALENDAR
