BEGIN:VCALENDAR
VERSION:2.0
PRODID:-//ChamberMaster//Event Calendar 2.0//EN
METHOD:PUBLISH
X-PUBLISHED-TTL:P3D
REFRESH-INTERVAL:P3D
CALSCALE:GREGORIAN
BEGIN:VEVENT
DTSTART;VALUE=DATE:20210319
DTEND;VALUE=DATE:20210320
TRANSP:TRANSPARENT
X-MICROSOFT-CDO-ALLDAYEVENT:TRUE
SUMMARY:Education Sponsorship Deadline
DESCRIPTION:It's that time of year again! Our 2021 Scholarship applications are available for Central Students to submit.\n\n\n\nLast year we awarded $1250 in scholarships as well as taking part in the Student and Teacher of the Year recognitions.\n\n \n\nYOU can be a part of that. Education sponsorships are now open!\n\n \n\nIf you would like to be a part of supporting Central Students in their career and study goals by sponsoring the education program click "Register" on the right and select the level you would like to participate at.
X-ALT-DESC;FMTTYPE=text/html:<div style="color: rgb(126\, 126\, 126)\; font-family: &quot\;Century Gothic&quot\;\, Calibri\, Helvetica\, Arial\, sans-serif\; font-size: 16px\;"><span style="font-family:arial\;"><span style="color: rgb(0\, 0\, 0)\;">It&#39\;s that time of year again! Our 2021 Scholarship applications <a href="http://members.cityofcentralchamber.com/events/details/scholarship-application-deadline-2973">are available for Central Students to submit.</a><br />\n<br />\nLast year we awarded $1250 in scholarships as well as taking part in the Student and Teacher of the Year recognitions.</span></span></div>\n\n<div style="color: rgb(126\, 126\, 126)\; font-family: &quot\;Century Gothic&quot\;\, Calibri\, Helvetica\, Arial\, sans-serif\; font-size: 16px\;">&nbsp\;</div>\n\n<div style="color: rgb(126\, 126\, 126)\; font-family: &quot\;Century Gothic&quot\;\, Calibri\, Helvetica\, Arial\, sans-serif\; font-size: 16px\;"><span style="font-family:arial\;"><span style="color: rgb(0\, 0\, 0)\;"><strong>YOU can be a part of that. </strong>Education sponsorships are now open!</span></span></div>\n\n<div align="center" style="color: rgb(126\, 126\, 126)\; font-family: &quot\;Century Gothic&quot\;\, Calibri\, Helvetica\, Arial\, sans-serif\; font-size: 16px\; text-align: center\;">&nbsp\;</div>\n\n<div style="color: rgb(126\, 126\, 126)\; font-family: &quot\;Century Gothic&quot\;\, Calibri\, Helvetica\, Arial\, sans-serif\; font-size: 16px\;"><span style="font-family:arial\;"><span style="color: rgb(0\, 0\, 0)\;">If you would like to be a part of supporting Central Students in their career and study goals by sponsoring the education program click &quot\;Register&quot\; on the right and select the level you would like to participate at.&nbsp\;</span></span></div>\n
LOCATION:You can find the scholarship application online here. The Scholarship award banquet will be held at Kristenwood Reception.
UID:e.1367.2972
SEQUENCE:3
DTSTAMP:20260424T025856Z
URL:https://business.cityofcentralchamber.com/events/details/education-sponsorship-deadline-2972
END:VEVENT

END:VCALENDAR
