BEGIN:VCALENDAR
VERSION:2.0
PRODID:-//ChamberMaster//Event Calendar 2.0//EN
METHOD:PUBLISH
X-PUBLISHED-TTL:P3D
REFRESH-INTERVAL:P3D
CALSCALE:GREGORIAN
BEGIN:VEVENT
DTSTART:20211010T140000Z
DTEND:20211010T200000Z
X-MICROSOFT-CDO-ALLDAYEVENT:FALSE
SUMMARY:Drive-Thru Flu Fair
DESCRIPTION:Drive-Thru Flu Fair\n\nGetting a flu shot has never been easier. \n\n\n\nSunday\, Oct. 10\n\n9 am - 3 pm\n\n7855 Howell Blvd.\, Baton Rouge\, LA 70807\n\n\n\nTo schedule your flu shot\, please call 225-726-2522 or schedule via MyChart app.
X-ALT-DESC;FMTTYPE=text/html:<span style="font-size:16px\;"><strong>Drive-Thru Flu Fair</strong><br />\nGetting a flu shot has never been easier.&nbsp\;<br />\n<br />\n<strong>Sunday\, Oct. 10<br />\n9 am - 3 pm</strong><br />\n7855 Howell Blvd.\, Baton Rouge\, LA 70807<br />\n<br />\nTo schedule your flu shot\, please call 225-726-2522 or schedule via MyChart app.</span>
LOCATION:7855 Howell Blvd. Baton Rouge\, LA 70807
UID:e.1367.3011
SEQUENCE:3
DTSTAMP:20260423T172552Z
URL:https://business.cityofcentralchamber.com/events/details/drive-thru-flu-fair-3011
END:VEVENT

END:VCALENDAR
