BEGIN:VCALENDAR
VERSION:2.0
PRODID:-//ChamberMaster//Event Calendar 2.0//EN
METHOD:PUBLISH
X-PUBLISHED-TTL:P3D
REFRESH-INTERVAL:P3D
CALSCALE:GREGORIAN
BEGIN:VEVENT
DTSTART:20240920T170000Z
DTEND:20240920T173000Z
X-MICROSOFT-CDO-ALLDAYEVENT:FALSE
SUMMARY:D.R. Horton - Ribbon Cutting
DESCRIPTION:You're Invited!\n\nJoin us for the ribbon-cutting ceremony of the new neighborhood\, Legacy Oaks\, brought to you by DR Horton.\n\n \n\nBe part of the celebration as we mark the opening of this beautiful new community. Explore the exceptional homes and amenities Legacy Oaks has to offer.\n\nWe look forward to celebrating with you!
X-ALT-DESC;FMTTYPE=text/html:<p><span style="font-size:16px\;"><strong>You&#39\;re Invited!</strong></span></p>\n\n<p><span style="font-size:14px\;">Join us for the ribbon-cutting ceremony of the new neighborhood\, <strong>Legacy Oaks</strong>\, brought to you by DR Horton.</span><br />\n&nbsp\;</p>\n\n<p><span style="font-size:14px\;">Be part of the celebration as we mark the opening of this beautiful new community. Explore the exceptional homes and amenities Legacy Oaks has to offer.</span></p>\n\n<p><span style="font-size:14px\;">We look forward to celebrating with you!</span></p>\n
LOCATION:Legacy Oaks 12075 Legacy Oaks Ave Central\, LA 70818
UID:e.1367.3201
SEQUENCE:3
DTSTAMP:20260421T032753Z
URL:https://business.cityofcentralchamber.com/events/details/d-r-horton-ribbon-cutting-3201
END:VEVENT

END:VCALENDAR
