BEGIN:VCALENDAR
VERSION:2.0
PRODID:-//ChamberMaster//Event Calendar 2.0//EN
METHOD:PUBLISH
X-PUBLISHED-TTL:P3D
REFRESH-INTERVAL:P3D
CALSCALE:GREGORIAN
BEGIN:VEVENT
DTSTART:20211116T153000Z
DTEND:20211116T160000Z
X-MICROSOFT-CDO-ALLDAYEVENT:FALSE
SUMMARY:Cybersecurity Roundtable
DESCRIPTION:Join Congressman Garret Graves & the Cybersecurity & Infrastructure Security Agency for a virtual CYBERSECURITY ROUNDTABLE.\n\n\n\nHelping small to medium-sized businesses with best cybersecurity practices.\n\n\n\nNovember 16 | 9:30 am\n\n\n\nRSVP by clicking here
X-ALT-DESC;FMTTYPE=text/html:<span style="font-size:16px\;">Join Congressman Garret Graves &amp\; the Cybersecurity &amp\; Infrastructure Security Agency for a virtual <strong>CYBERSECURITY ROUNDTABLE.</strong><br />\n<br />\nHelping small to medium-sized businesses with best cybersecurity practices.<br />\n<br />\nNovember 16 | 9:30 am<br />\n<br />\n<a href="https://docs.google.com/forms/d/e/1FAIpQLSeOYmM-afMiLs2kdhlBnAOB1hs1STSKUV_AYnt_qD96IL09_w/viewform">RSVP by clicking here</a></span>
LOCATION:
UID:e.1367.3022
SEQUENCE:3
DTSTAMP:20260423T143654Z
URL:https://business.cityofcentralchamber.com/events/details/cybersecurity-roundtable-3022
END:VEVENT

END:VCALENDAR
