BEGIN:VCALENDAR
VERSION:2.0
PRODID:-//ChamberMaster//Event Calendar 2.0//EN
METHOD:PUBLISH
X-PUBLISHED-TTL:P3D
REFRESH-INTERVAL:P3D
CALSCALE:GREGORIAN
BEGIN:VEVENT
DTSTART:20220325T210000Z
DTEND:20220326T020000Z
X-MICROSOFT-CDO-ALLDAYEVENT:FALSE
SUMMARY:Cooking in Central
DESCRIPTION:Bring your Chairs\, Buy a Food Ticket and Prepare for TWO days of fun!  This year Cooking in Central will be held on Friday Night March 25 and Saturday March 26. \n\nAll benefits will go to Lower South Terrebonne Parish to help with Hurricane Recovery.
X-ALT-DESC;FMTTYPE=text/html:<p><b style="font-family: verdana\; font-size: 12px\;">Bring your Chairs\, Buy a Food&nbsp\;Ticket and Prepare for TWO days of fun!&nbsp\; This year Cooking in Central will be held on Friday Night March 25 and Saturday March 26. </b></p>\n\n<p><b style="font-family: verdana\; font-size: 12px\;">All </b><font face="verdana"><span style="font-size: 12px\;"><b>benefits</b></span></font><b style="font-family: verdana\; font-size: 12px\;">&nbsp\;will go to Lower South Terrebonne Parish to help with Hurricane Recovery.&nbsp\;</b></p>\n
LOCATION:Amazing Place 10305 Blackwater Road\, Central\, LA 70714
UID:e.1367.3037
SEQUENCE:3
DTSTAMP:20260423T072745Z
URL:https://business.cityofcentralchamber.com/events/details/cooking-in-central-3037
END:VEVENT

END:VCALENDAR
