BEGIN:VCALENDAR
VERSION:2.0
PRODID:-//ChamberMaster//Event Calendar 2.0//EN
METHOD:PUBLISH
X-PUBLISHED-TTL:P3D
REFRESH-INTERVAL:P3D
CALSCALE:GREGORIAN
BEGIN:VEVENT
DTSTART:20220528T150000Z
DTEND:20220528T190000Z
X-MICROSOFT-CDO-ALLDAYEVENT:FALSE
SUMMARY:Community Haven Ribbon Cutting - Chamber Member Family Swim
DESCRIPTION:Time to Celebrate Community Haven of Central and their exciting new location. Chamber Members are invited to bring their families to celebrate Community Haven's Ribbon Cutting AND SWIM!\n\nPlease continue to check back for more details.
X-ALT-DESC;FMTTYPE=text/html:<p>Time to Celebrate Community Haven of Central and their exciting new location. Chamber Members are invited to bring their families to celebrate Community Haven&#39\;s Ribbon Cutting AND SWIM!</p>\n\n<p>Please continue to check back for more details.&nbsp\;</p>\n
LOCATION:Community Haven of Central 6565 Morgan Rd\, Greenwell Springs\, LA 70739
UID:e.1367.3064
SEQUENCE:3
DTSTAMP:20260423T042525Z
URL:https://business.cityofcentralchamber.com/events/details/community-haven-ribbon-cutting-chamber-member-family-swim-3064
END:VEVENT

END:VCALENDAR
