BEGIN:VCALENDAR
VERSION:2.0
PRODID:-//ChamberMaster//Event Calendar 2.0//EN
METHOD:PUBLISH
X-PUBLISHED-TTL:P3D
REFRESH-INTERVAL:P3D
CALSCALE:GREGORIAN
BEGIN:VEVENT
DTSTART;VALUE=DATE:20210423
DTEND;VALUE=DATE:20210425
TRANSP:TRANSPARENT
X-MICROSOFT-CDO-ALLDAYEVENT:TRUE
SUMMARY:Community Garage Sale at Senior Residences of Central
DESCRIPTION:Each resident will be hosting a garage sale over the weekend. Come and snag some deals!
X-ALT-DESC;FMTTYPE=text/html:<span style="font-size:16px"><span style="font-family:verdana">Each resident will be hosting a garage sale over the weekend. Come and snag some deals!</span></span><br />\n<br />\n&nbsp\;
LOCATION:10816 Live Oak Grove Dr. Central\, LA 70818
UID:e.1367.2983
SEQUENCE:3
DTSTAMP:20260424T012441Z
URL:https://business.cityofcentralchamber.com/events/details/community-garage-sale-at-senior-residences-of-central-2983
END:VEVENT

END:VCALENDAR
