BEGIN:VCALENDAR
VERSION:2.0
PRODID:-//ChamberMaster//Event Calendar 2.0//EN
METHOD:PUBLISH
X-PUBLISHED-TTL:P3D
REFRESH-INTERVAL:P3D
CALSCALE:GREGORIAN
BEGIN:VEVENT
DTSTART:20211023T120000Z
DTEND:20211023T190000Z
X-MICROSOFT-CDO-ALLDAYEVENT:FALSE
SUMMARY:Community Garage Sale
DESCRIPTION:Have items you don't want but don't want to set up a garage sale? Community Haven has you covered! \n\n\n\nThey will come and pick up your items before Oct. 23rd. Text (225) 305-9719 for pickup. \n\n\n\nOn Oct. 23rd come shop from 7 am to 2 pm!\n\n\n\nFrom 10 am to 2 pm there will be a jumpy house and refreshments for a donation. \n\n\n\nCommunity Haven is raising funds to get new road signage. They appreciate any donation.
X-ALT-DESC;FMTTYPE=text/html:<span style="font-size:16px\;">Have items you don&#39\;t want but don&#39\;t want to set up a garage sale? Community Haven has you covered!&nbsp\;<br />\n<br />\nThey will come and pick up your items before Oct. 23rd.&nbsp\;Text (225) 305-9719 for pickup.&nbsp\;<br />\n<br />\nOn Oct. 23rd come shop from 7 am to 2 pm!<br />\n<br />\nFrom 10 am to 2 pm there will be a jumpy house and refreshments for a donation.&nbsp\;<br />\n<br />\nCommunity Haven is raising funds to get new road signage. They appreciate any donation.</span><br />\n<br />\n&nbsp\;
LOCATION:Garage Sale 6565 Morgan Rd Central\, LA 70739 Will come to you to pick up items. Text (225) 305-9719.
UID:e.1367.3018
SEQUENCE:3
DTSTAMP:20260423T172454Z
URL:https://business.cityofcentralchamber.com/events/details/community-garage-sale-3018
END:VEVENT

END:VCALENDAR
