BEGIN:VCALENDAR
VERSION:2.0
PRODID:-//ChamberMaster//Event Calendar 2.0//EN
METHOD:PUBLISH
X-PUBLISHED-TTL:P3D
REFRESH-INTERVAL:P3D
CALSCALE:GREGORIAN
BEGIN:VEVENT
DTSTART:20240619T133000Z
DTEND:20240619T143000Z
X-MICROSOFT-CDO-ALLDAYEVENT:FALSE
SUMMARY:Coffee & Conversations - Google Business Page & Reviews
DESCRIPTION:Whitney Andrus will be speaking to us about the importance of your Google Business Page & how to manage Google Reviews.
X-ALT-DESC;FMTTYPE=text/html:<span style="font-size:18px\;">Whitney Andrus will be speaking to us about the importance of your Google Business Page &amp\; how to manage Google Reviews.</span>
LOCATION:Central Title 9718 Sullivan Rd\, Baton Rouge\, LA 70818
UID:e.1367.3189
SEQUENCE:3
DTSTAMP:20260421T091105Z
URL:https://business.cityofcentralchamber.com/events/details/coffee-conversations-google-business-page-reviews-3189
END:VEVENT

END:VCALENDAR
