BEGIN:VCALENDAR
VERSION:2.0
PRODID:-//ChamberMaster//Event Calendar 2.0//EN
METHOD:PUBLISH
X-PUBLISHED-TTL:P3D
REFRESH-INTERVAL:P3D
CALSCALE:GREGORIAN
BEGIN:VEVENT
DTSTART:20250327T133000Z
DTEND:20250327T143000Z
X-MICROSOFT-CDO-ALLDAYEVENT:FALSE
SUMMARY:Coffee & Conversations - Ashton Galbo
DESCRIPTION:Coffee & Convos: Empowering Entrepreneurs  \n\n\n\nWe are excited to welcome Ashton Galbo\, owner of Flower That Blooms Marketing & Analytics\, as our featured speaker. She will be sharing her journey of stepping out and opening a business in today's economy and offering valuable insights on:\n\n\n\n  Navigating the challenges of entrepreneurship\n\n  How to manage and market yourself effectively\n\n  The importance of investing in yourself and your business\n\n\n\nWhether you're a new entrepreneur\, a seasoned business owner\, or just looking for motivation\, this event is for you! Come network\, learn\, and enjoy great conversation over coffee.
X-ALT-DESC;FMTTYPE=text/html:<span style="font-size:16px\;"><span class="x1xsqp64 xiy17q3 x1o6pynw x19co3pv xdj266r xcwd3tp xat24cr x39eecv x2b8uid" data-testid="emoji" style="cursor: default\; background-image: url(&quot\;https://static.xx.fbcdn.net/images/emoji.php/v9/t91/1/16/2615.png&quot\;)\; background-size: 16px 16px\; white-space-collapse: preserve\;"><span class="xexx8yu xn5pp95 x18d9i69 x2fxd7x x3jgonx x1bhl96m">&#9749\;</span></span><span style="white-space-collapse: preserve\;"> Coffee &amp\; Convos: Empowering Entrepreneurs </span><span class="x1xsqp64 xiy17q3 x1o6pynw x19co3pv xdj266r xcwd3tp xat24cr x39eecv x2b8uid" data-testid="emoji" style="cursor: default\; background-image: url(&quot\;https://static.xx.fbcdn.net/images/emoji.php/v9/t69/1/16/1f331.png&quot\;)\; background-size: 16px 16px\; white-space-collapse: preserve\;"><span class="xexx8yu xn5pp95 x18d9i69 x2fxd7x x3jgonx x1bhl96m">&#127793\;</span></span><br />\n<br />\n<span style="white-space-collapse: preserve\;">We are excited to welcome Ashton Galbo\, owner of </span><span class="xv78j7m" spellcheck="false" style="white-space-collapse: preserve\;">Flower That Blooms Marketing &amp\; Analytics</span><span style="white-space-collapse: preserve\;">\, as our featured speaker. She will be sharing her journey of stepping out and opening a business in today&rsquo\;s economy and offering valuable insights on:</span><br />\n<br />\n<span class="x1xsqp64 xiy17q3 x1o6pynw x19co3pv xdj266r xcwd3tp xat24cr x39eecv x2b8uid" data-testid="emoji" style="cursor: default\; background-image: url(&quot\;https://static.xx.fbcdn.net/images/emoji.php/v9/te0/1/16/1f31f.png&quot\;)\; background-size: 16px 16px\; white-space-collapse: preserve\;"><span class="xexx8yu xn5pp95 x18d9i69 x2fxd7x x3jgonx x1bhl96m">&#127775\;</span></span><span style="white-space-collapse: preserve\;"> Navigating the challenges of entrepreneurship</span><br />\n<span class="x1xsqp64 xiy17q3 x1o6pynw x19co3pv xdj266r xcwd3tp xat24cr x39eecv x2b8uid" data-testid="emoji" style="cursor: default\; background-image: url(&quot\;https://static.xx.fbcdn.net/images/emoji.php/v9/tba/1/16/1f4e3.png&quot\;)\; background-size: 16px 16px\; white-space-collapse: preserve\;"><span class="xexx8yu xn5pp95 x18d9i69 x2fxd7x x3jgonx x1bhl96m">&#128227\;</span></span><span style="white-space-collapse: preserve\;"> How to manage and market yourself effectively</span><br />\n<span class="x1xsqp64 xiy17q3 x1o6pynw x19co3pv xdj266r xcwd3tp xat24cr x39eecv x2b8uid" data-testid="emoji" style="cursor: default\; background-image: url(&quot\;https://static.xx.fbcdn.net/images/emoji.php/v9/t3c/1/16/1f4a1.png&quot\;)\; background-size: 16px 16px\; white-space-collapse: preserve\;"><span class="xexx8yu xn5pp95 x18d9i69 x2fxd7x x3jgonx x1bhl96m">&#128161\;</span></span><span style="white-space-collapse: preserve\;"> The importance of investing in yourself and your business</span><br />\n<br />\n<span style="white-space-collapse: preserve\;">Whether you&rsquo\;re a new entrepreneur\, a seasoned business owner\, or just looking for motivation\, this event is for you! Come network\, learn\, and enjoy great conversation over coffee.</span></span>
LOCATION:Location: Central Title & Closing Company\, LLC 9718 Sullivan Rd\, Baton Rouge\, LA 70818
UID:e.1367.3224
SEQUENCE:3
DTSTAMP:20260420T175035Z
URL:https://business.cityofcentralchamber.com/events/details/coffee-conversations-ashton-galbo-3224
END:VEVENT

END:VCALENDAR
