BEGIN:VCALENDAR
VERSION:2.0
PRODID:-//ChamberMaster//Event Calendar 2.0//EN
METHOD:PUBLISH
X-PUBLISHED-TTL:P3D
REFRESH-INTERVAL:P3D
CALSCALE:GREGORIAN
BEGIN:VEVENT
DTSTART:20240910T133000Z
DTEND:20240910T143000Z
X-MICROSOFT-CDO-ALLDAYEVENT:FALSE
SUMMARY:Coffee & Conversations - Amy Vandiver
DESCRIPTION:Join us for Coffee & Conversations on September 10th! We will be discussing how to use AI for Social Media Content Creation.
X-ALT-DESC;FMTTYPE=text/html:<span style="font-size:18px\;">Join us for Coffee &amp\; Conversations on September 10th! We will be discussing how to use AI for Social Media Content Creation.</span>
LOCATION:The Hausse - 14340 Wax Rd Suite 101\, Baton Rouge\, LA 70818
UID:e.1367.3200
SEQUENCE:3
DTSTAMP:20260421T032727Z
URL:https://business.cityofcentralchamber.com/events/details/coffee-conversations-amy-vandiver-3200
END:VEVENT

END:VCALENDAR
