BEGIN:VCALENDAR
VERSION:2.0
PRODID:-//ChamberMaster//Event Calendar 2.0//EN
METHOD:PUBLISH
X-PUBLISHED-TTL:P3D
REFRESH-INTERVAL:P3D
CALSCALE:GREGORIAN
BEGIN:VEVENT
DTSTART:20230315T133000Z
DTEND:20230315T143000Z
X-MICROSOFT-CDO-ALLDAYEVENT:FALSE
SUMMARY:Coffee & Conversations
DESCRIPTION:Leslie Presnall is a local marketing coach who specializes in helping service-based business owners grow their business and bring in a steady stream of clients. She's the founder of the Localpreneur Bootcamp and the host of the Grow Your Local Business podcast.\n\n \n\nJoin us to learn the The Local Instagram Formula and how to self-audit your feed.\n\n \n\nDo you ever wonder "How do I reach people in my city? How do I get them to notice me? How do I get them to know I'm here? How do I get to them pay attention and engage with me? How do I get them to care about what I'm posting? How do I turn them into followers and then paying clients?"\n\n \n\nYou'll get answers. This 5-part formula makes up exactly what you should have visible on your feed and scattered throughout your content so that you can stand out and get noticed.\n\n \n\nIf these 5 things aren't clear on your profile\, you could be missing out on your perfect local people knowing that you are perfect for them.\n\n \n\nLeslie is breaking it all down step by step with examples on how you can covert viewers into new followers -- and even clients.
X-ALT-DESC;FMTTYPE=text/html:Leslie Presnall is a local marketing coach who specializes in helping service-based business owners grow their business and bring in a steady stream of clients. She&#39\;s the founder of the Localpreneur Bootcamp and the host of the Grow Your Local Business podcast.<br />\n&nbsp\;<br />\nJoin us to learn the The Local Instagram Formula and how to self-audit your feed.<br />\n&nbsp\;<br />\nDo you ever wonder &ldquo\;How do I reach people in my city? How do I get them to notice me? How do I get them to know I&rsquo\;m here? How do I get to them pay attention and engage with me? How do I get them to care about what I&rsquo\;m posting? How do I turn them into followers and then paying clients?&rdquo\;<br />\n&nbsp\;<br />\nYou&#39\;ll get answers. This 5-part formula makes up exactly what you should have visible on your feed and scattered throughout your content so that you can stand out and get noticed.<br />\n&nbsp\;<br />\nIf these 5 things aren&#39\;t clear on your profile\, you could be missing out on your perfect local people knowing that you are perfect for them.<br />\n&nbsp\;<br />\nLeslie is breaking it all down step by step with examples on how you can covert viewers into new followers -- and even clients.<br />\n&nbsp\;
LOCATION:The Hausse at Central Square 14340 Wax Rd Suite 101\, Baton Rouge\, LA 70818
UID:e.1367.3102
SEQUENCE:3
DTSTAMP:20260422T122956Z
URL:https://business.cityofcentralchamber.com/events/details/coffee-conversations-3102
END:VEVENT

END:VCALENDAR
