BEGIN:VCALENDAR
VERSION:2.0
PRODID:-//ChamberMaster//Event Calendar 2.0//EN
METHOD:PUBLISH
X-PUBLISHED-TTL:P3D
REFRESH-INTERVAL:P3D
CALSCALE:GREGORIAN
BEGIN:VEVENT
DTSTART:20210714T213000Z
DTEND:20210714T233000Z
X-MICROSOFT-CDO-ALLDAYEVENT:FALSE
SUMMARY:Cocktails with the Claiborne
DESCRIPTION:Shoe Creek's Monthly Networking Social\n\n\n\nCocktails with the Claiborne\n\n\n\nWednesday\, July 14\n\n4:30 - 6:30 PM\n\n\n\nDrinks & hor d'oeuvres & fabulous company! \n\n\n\n9750 Couret Dr.\, Central\, LA 70818\n\n\n\nBehind Pat's Home Center on Sullivan Rd\n\n\n\nRSVP Leslie Denino 225-505-1870
X-ALT-DESC;FMTTYPE=text/html:Shoe Creek&#39\;s Monthly Networking Social<br />\n<br />\nCocktails with the Claiborne<br />\n<br />\nWednesday\, July 14<br />\n4:30 - 6:30 PM<br />\n<br />\nDrinks &amp\; hor d&#39\;oeuvres &amp\; fabulous company!&nbsp\;<br />\n<br />\n9750 Couret Dr.\, Central\, LA 70818<br />\n<br />\nBehind Pat&#39\;s Home Center on Sullivan Rd<br />\n<br />\nRSVP Leslie Denino 225-505-1870
LOCATION:9750 Couret Dr.\, Central\, LA 70818 Behind Pat's Home Center on Sullivan Rd
UID:e.1367.2992
SEQUENCE:3
DTSTAMP:20260423T211456Z
URL:https://business.cityofcentralchamber.com/events/details/cocktails-with-the-claiborne-2992
END:VEVENT

END:VCALENDAR
