BEGIN:VCALENDAR
VERSION:2.0
PRODID:-//ChamberMaster//Event Calendar 2.0//EN
METHOD:PUBLISH
X-PUBLISHED-TTL:P3D
REFRESH-INTERVAL:P3D
CALSCALE:GREGORIAN
BEGIN:VEVENT
DTSTART:20230422T130000Z
DTEND:20230422T150000Z
X-MICROSOFT-CDO-ALLDAYEVENT:FALSE
SUMMARY:City of Central - LOVE THE BOOT - Keep Central Beautiful
DESCRIPTION:The City of Central is excited to partner with Keep Louisiana Beautiful and participate in #LovetheBoot Week! They will be hosting a litter cleanup/beautification event\, Keeping Central Beautiful\, on April 22nd from 8:00AM-10:00AM. Only together\, can we clean up our community! Sign up to volunteer for our event at www.lovetheboot.org
X-ALT-DESC;FMTTYPE=text/html:<span style="color: rgb(5\, 5\, 5)\; font-family: &quot\;Segoe UI Historic&quot\;\, &quot\;Segoe UI&quot\;\, Helvetica\, Arial\, sans-serif\; font-size: 15px\;">The City of Central is excited to partner with Keep Louisiana Beautiful and participate in&nbsp\;</span><a class="x1i10hfl xjbqb8w x6umtig x1b1mbwd xaqea5y xav7gou x9f619 x1ypdohk xt0psk2 xe8uvvx xdj266r x11i5rnm xat24cr x1mh8g0r xexx8yu x4uap5 x18d9i69 xkhd6sd x16tdsg8 x1hl2dhg xggy1nq x1a2a7pz xt0b8zv xzsf02u x1s688f" href="https://www.facebook.com/hashtag/lovetheboot?__eep__=6&amp\;__cft__[0]=AZXLVb0XhEnb73__q00en7NSJUcbSGhSn76UX-enyT5lJFFhHUKHUiciG0CslfSTWyhPzzetMu8-bA_9UriposSxMI9wDMkZZOdZzFMiGsNz6evsZLfcSIsmSktJz6JvPsk&amp\;__tn__=q" role="link" style="color: var(--primary-text)\; cursor: pointer\; text-decoration-line: none\; margin: 0px\; padding: 0px\; outline: none\; border-width: 0px\; border-style: initial\; border-color: initial\; -webkit-tap-highlight-color: transparent\; font-weight: 600\; box-sizing: border-box\; list-style: none\; touch-action: manipulation\; display: inline\; font-family: &quot\;Segoe UI Historic&quot\;\, &quot\;Segoe UI&quot\;\, Helvetica\, Arial\, sans-serif\; font-size: 15px\;" tabindex="0">#LovetheBoot</a><span style="color: rgb(5\, 5\, 5)\; font-family: &quot\;Segoe UI Historic&quot\;\, &quot\;Segoe UI&quot\;\, Helvetica\, Arial\, sans-serif\; font-size: 15px\;">&nbsp\;Week! They will be hosting a litter cleanup/beautification event\, Keeping Central Beautiful\, on April 22nd from 8:00AM-10:00AM. Only together\, can we clean up our community! Sign up to volunteer for our event at&nbsp\;</span><a class="x1i10hfl xjbqb8w x6umtig x1b1mbwd xaqea5y xav7gou x9f619 x1ypdohk xt0psk2 xe8uvvx xdj266r x11i5rnm xat24cr x1mh8g0r xexx8yu x4uap5 x18d9i69 xkhd6sd x16tdsg8 x1hl2dhg xggy1nq x1a2a7pz xt0b8zv x1fey0fg" href="http://www.lovetheboot.org/?fbclid=IwAR0adZQQRWCpbqP8IgvRG0WbD7qqp3sP4_v_rBKVJXSZTd6ObimiDMlxcQU" rel="nofollow noopener" role="link" style="color: var(--blue-link)\; cursor: pointer\; margin: 0px\; padding: 0px\; outline: none\; border-width: 0px\; border-style: initial\; border-color: initial\; -webkit-tap-highlight-color: transparent\; box-sizing: border-box\; list-style: none\; touch-action: manipulation\; display: inline\; font-family: &quot\;Segoe UI Historic&quot\;\, &quot\;Segoe UI&quot\;\, Helvetica\, Arial\, sans-serif\; font-size: 15px\;" tabindex="0" target="_blank">www.lovetheboot.org</a>
LOCATION:Meet at City Hall: 13421 Hooper Road Ste 8
UID:e.1367.3108
SEQUENCE:3
DTSTAMP:20260422T105004Z
URL:https://business.cityofcentralchamber.com/events/details/city-of-central-love-the-boot-keep-central-beautiful-3108
END:VEVENT

END:VCALENDAR
