BEGIN:VCALENDAR
VERSION:2.0
PRODID:-//ChamberMaster//Event Calendar 2.0//EN
METHOD:PUBLISH
X-PUBLISHED-TTL:P3D
REFRESH-INTERVAL:P3D
CALSCALE:GREGORIAN
BEGIN:VEVENT
DTSTART:20221013T230000Z
DTEND:20221014T000000Z
X-MICROSOFT-CDO-ALLDAYEVENT:FALSE
SUMMARY:City Council Forum
DESCRIPTION:Please Join us for a Forum of our City Council Candidates.
X-ALT-DESC;FMTTYPE=text/html:<p>Please Join us for a Forum of our City Council Candidates.</p>\n
LOCATION:CHS Theater
UID:e.1367.3079
SEQUENCE:3
DTSTAMP:20260422T210554Z
URL:https://business.cityofcentralchamber.com/events/details/city-council-forum-3079
END:VEVENT

END:VCALENDAR
