BEGIN:VCALENDAR
VERSION:2.0
PRODID:-//ChamberMaster//Event Calendar 2.0//EN
METHOD:PUBLISH
X-PUBLISHED-TTL:P3D
REFRESH-INTERVAL:P3D
CALSCALE:GREGORIAN
BEGIN:VEVENT
DTSTART:20221029T230000Z
DTEND:20221030T010000Z
X-MICROSOFT-CDO-ALLDAYEVENT:FALSE
SUMMARY:CHS Trunk or Treat & Haunted House
DESCRIPTION:CHS is hosting a Trunk or Treat and Haunted House!  Come out and join the Fun! \n\n \n\nWould Your Company like to Host a Trunk?  Let Us Know and We Will Get You Signed Up!
X-ALT-DESC;FMTTYPE=text/html:<p>CHS is hosting a Trunk or Treat and Haunted House!&nbsp\; Come out and join the Fun!&nbsp\;</p>\n\n<p>&nbsp\;</p>\n\n<p>Would Your Company like to Host a Trunk?&nbsp\; Let Us Know and We Will Get You Signed Up!&nbsp\;</p>\n
LOCATION:CHS North Parking Lot. (Please park at the Freshman Academy or South Lot).
UID:e.1367.3085
SEQUENCE:3
DTSTAMP:20260422T223934Z
URL:https://business.cityofcentralchamber.com/events/details/chs-trunk-or-treat-haunted-house-3085
END:VEVENT

END:VCALENDAR
