BEGIN:VCALENDAR
VERSION:2.0
PRODID:-//ChamberMaster//Event Calendar 2.0//EN
METHOD:PUBLISH
X-PUBLISHED-TTL:P3D
REFRESH-INTERVAL:P3D
CALSCALE:GREGORIAN
BEGIN:VEVENT
DTSTART;VALUE=DATE:20231020
DTEND;VALUE=DATE:20231021
TRANSP:TRANSPARENT
X-MICROSOFT-CDO-ALLDAYEVENT:TRUE
SUMMARY:Christmas Sponsorship Deadline
DESCRIPTION:The best way to spread Christmas Cheer is to sing out loud for all to hear. The second best way is to sponsor Christmas in Central! \n\n\n\nWhat sponsorship options are available? \n\n	Christmas Corporate Sponsor - $550 for Members and $750 for Guests. (Become a member here.) \n\n- Street Banner w. logo at a highly-trafficked intersection in Central\n\n- Company Name on a banner to be carried in the parade\n\n- Parade float entry\n\n- Facebook shout out\n\n- Company logo on ALL material given out about Christmas in Central Festival\n\n- Logo on Elf Run T-shirt for sponsors registered by October 15\n\n- Email your logo to the Chamber at chamber@cityofcentralchamber.com\n\n \n\n	Christmas Banner Sponsor - $150 for Members and $175 for Guests. (Become a member here.) \n\n- Street Banner w. logo at a highly-trafficked intersection in Central \n\n- Locations are randomly assigned and placement requests cannot be accommodated at this time\n\n- Email your logo to the Chamber at chamber@cityofcentralchamber.com\n\n\n	Elf Run Shirt Sponsor -  $150 for Members and $175 for Guests. (Become a member here.) \n\n- Your Logo on the Back of the Elf Run Shirt given to all runners\n\nMUST BE REGISTERED BY OCTOBER 15
X-ALT-DESC;FMTTYPE=text/html:<span style="color:#008000\;"><span style="font-size:16px\;"><span style="font-family:comic sans ms\;"><strong><span style="font-family:arial\;">The best way to spread Christmas Cheer is to sing out loud for all to hear. The second best way is to sponsor Christmas in Central!&nbsp\;<br />\n<br />\n<u>What sponsorship options are available?&nbsp\;</u></span></strong></span></span></span>\n<ul>\n	<li><strong style="color: rgb(0\, 128\, 0)\; font-family: &quot\;comic sans ms&quot\;\; font-size: 16px\;"><span style="font-family: arial\;">Christmas Corporate Sponsor - $550 for Members and $750 for Guests. (<a href="http://members.cityofcentralchamber.com/member/newmemberapp">Become a member here.</a>)&nbsp\;</span></strong></li>\n</ul>\n<span style="font-size:16px\;"><span style="color:#008000\;"><strong><span style="font-family:arial\;">- Street Banner w. logo at&nbsp\;a highly-trafficked intersection in Central<br />\n- Company Name on a banner to be carried in the parade<br />\n- Parade float entry<br />\n- Facebook shout out<br />\n- Company logo on ALL material given out about Christmas in Central Festival<br />\n- Logo on Elf Run T-shirt <u>for sponsors registered by October 15</u><br />\n- Email your logo to the Chamber at chamber@cityofcentralchamber.com</span></strong></span></span><br />\n&nbsp\;\n<ul>\n	<li><strong style="color: rgb(0\, 128\, 0)\; font-family: &quot\;comic sans ms&quot\;\; font-size: 16px\;"><span style="font-family: arial\;">Christmas Banner Sponsor - $150 for Members and $175 for Guests. (<a href="http://members.cityofcentralchamber.com/member/newmemberapp">Become a member here.</a>)&nbsp\;</span></strong></li>\n</ul>\n<strong style="color: rgb(0\, 128\, 0)\; font-size: 16px\;"><span style="font-family: arial\;">- Street Banner w. logo at&nbsp\;a highly-trafficked intersection in Central&nbsp\;<br />\n- Locations are randomly assigned and placement requests cannot be accommodated at this time<br />\n- Email your logo to the Chamber at chamber@cityofcentralchamber.com</span></strong>\n\n<ul>\n	<li><strong comic="" font-size:="" sans="" style="font-size: 16px\; color: rgb(0\, 128\, 0)\;"><span style="font-family: arial\;">Elf Run Shirt Sponsor -&nbsp\; </span></strong><strong style="color: rgb(0\, 128\, 0)\; font-family: &quot\;comic sans ms&quot\;\; font-size: 16px\;"><span style="font-family: arial\;">$150 for Members and $175 for Guests. (<a href="http://members.cityofcentralchamber.com/member/newmemberapp">Become a member here.</a>)&nbsp\;</span></strong></li>\n</ul>\n<strong style="color: rgb(0\, 128\, 0)\; font-family: &quot\;comic sans ms&quot\;\; font-size: 16px\;"><span style="font-family: arial\;">- Your Logo on the Back of the Elf Run Shirt given to all runners<br />\n<u>MUST BE REGISTERED BY OCTOBER 15</u></span></strong>
LOCATION:
UID:e.1367.3141
SEQUENCE:3
DTSTAMP:20260422T015021Z
URL:https://business.cityofcentralchamber.com/events/details/christmas-sponsorship-deadline-3141
END:VEVENT

END:VCALENDAR
