BEGIN:VCALENDAR
VERSION:2.0
PRODID:-//ChamberMaster//Event Calendar 2.0//EN
METHOD:PUBLISH
X-PUBLISHED-TTL:P3D
REFRESH-INTERVAL:P3D
CALSCALE:GREGORIAN
BEGIN:VEVENT
DTSTART;VALUE=DATE:20251031
DTEND;VALUE=DATE:20251122
TRANSP:TRANSPARENT
X-MICROSOFT-CDO-ALLDAYEVENT:TRUE
SUMMARY:Christmas in Central Banner Sponsorship
DESCRIPTION:Christmas Banner Sponsorship\nWant a fun and festive way to advertise this holiday season? Sponsor a Christmas Banner! \n\nYour banner will be proudly displayed at one of the busiest intersections in Central   ensuring maximum visibility for your business while spreading holiday joy to the community.\n\nDon't miss out on this unique opportunity to make your business shine this season!
X-ALT-DESC;FMTTYPE=text/html:<strong style="color: rgb(0\, 128\, 0)\; font-family: &quot\;comic sans ms&quot\;\; font-size: 16px\;"><span style="font-family: arial\;"><span style="font-size:20px\;"><u>Christmas Banner Sponsorship</u></span></span></strong>\n<p>Want a fun and festive way to advertise this holiday season? Sponsor a <strong>Christmas Banner</strong>!&nbsp\;</p>\n\n<p><strong>Your banner will be proudly displayed at one of the busiest intersections in Central</strong> &ndash\; ensuring maximum visibility for your business while spreading holiday joy to the community.</p>\n\n<p>Don&rsquo\;t miss out on this unique opportunity to make your business shine this season!</p>\n
LOCATION:One of the Major Intersections in the City of Central **You cannot request location or banner design. We will do our best to have your logo placed at the intersection closest to your business**
UID:e.1367.3227
SEQUENCE:3
DTSTAMP:20260420T040141Z
URL:https://business.cityofcentralchamber.com/events/details/christmas-in-central-banner-sponsorship-3227
END:VEVENT

END:VCALENDAR
