BEGIN:VCALENDAR
VERSION:2.0
PRODID:-//ChamberMaster//Event Calendar 2.0//EN
METHOD:PUBLISH
X-PUBLISHED-TTL:P3D
REFRESH-INTERVAL:P3D
CALSCALE:GREGORIAN
BEGIN:VEVENT
DTSTART:20251210T173000Z
DTEND:20251210T190000Z
X-MICROSOFT-CDO-ALLDAYEVENT:FALSE
SUMMARY:Chamber Christmas Social !
DESCRIPTION:You're Invited to a Chamber Christmas!  \n\nStop by for a delicious lunch\, great company\, and the chance to celebrate growth\, connection\, and community. \n\nWhether you're a longtime member or new to the area\, we?d love to see you there!
X-ALT-DESC;FMTTYPE=text/html:<p data-end="367" data-start="125"><span style="font-size:18px\;">&nbsp\;</span></p>\n\n<p data-end="367" data-start="125" style="color: rgb(51\, 51\, 51)\; font-family: sans-serif\, Arial\, Verdana\, &quot\;Trebuchet MS&quot\;\; font-size: 13px\;"><span style="font-size: 18px\;"><strong data-end="172" data-start="128">You&#39\;re Invited to a Chamber Christmas!</strong></span>&#127794\;&#127873\;</p>\n\n<p data-end="578" data-start="369" style="color: rgb(51\, 51\, 51)\; font-family: sans-serif\, Arial\, Verdana\, &quot\;Trebuchet MS&quot\;\; font-size: 13px\;"><span style="font-size: 18px\;">Stop by for a delicious lunch\, great company\, and the chance to celebrate&nbsp\;growth\, connection\, and community.&nbsp\;<br />\nWhether you&#39\;re a longtime member or new to the area\, we?d love to see you there!</span></p>\n
LOCATION:Bennett Barn 15194 Joor Rd.
UID:e.1367.3247
SEQUENCE:3
DTSTAMP:20260420T022205Z
URL:https://business.cityofcentralchamber.com/events/details/chamber-christmas-social-3247
END:VEVENT

END:VCALENDAR
