BEGIN:VCALENDAR
VERSION:2.0
PRODID:-//ChamberMaster//Event Calendar 2.0//EN
METHOD:PUBLISH
X-PUBLISHED-TTL:P3D
REFRESH-INTERVAL:P3D
CALSCALE:GREGORIAN
BEGIN:VEVENT
DTSTART:20220615T190000Z
DTEND:20220615T200000Z
X-MICROSOFT-CDO-ALLDAYEVENT:FALSE
SUMMARY:Central Title & Closing LLC and Calliahan Law Firm - New Location Reveal!
DESCRIPTION:Central Title & Closing LLC and Calliahan Law Firm - New Location Reveal!
X-ALT-DESC;FMTTYPE=text/html:<p>Central Title &amp\; Closing LLC and Calliahan Law Firm - New Location Reveal!&nbsp\;</p>\n
LOCATION:9718 Sullivan Road\, Baton Rouge\, LA
UID:e.1367.3066
SEQUENCE:3
DTSTAMP:20260423T030525Z
URL:https://business.cityofcentralchamber.com/events/details/central-title-closing-llc-and-calliahan-law-firm-new-location-reveal-3066
END:VEVENT

END:VCALENDAR
