BEGIN:VCALENDAR
VERSION:2.0
PRODID:-//ChamberMaster//Event Calendar 2.0//EN
METHOD:PUBLISH
X-PUBLISHED-TTL:P3D
REFRESH-INTERVAL:P3D
CALSCALE:GREGORIAN
BEGIN:VEVENT
DTSTART:20241005T150000Z
DTEND:20241006T010000Z
X-MICROSOFT-CDO-ALLDAYEVENT:FALSE
SUMMARY:Central's Faith & Family Fall Fest
DESCRIPTION:The Shop the Square portion of the event will happen from 10 am-6 pm.\nYou will have the option to leave at 2 pm or 6 pm.\n\n\n\nSet up is 8am-9am. \n\n \n\n2pm Break Down must vacate their spots by 2:30pm.\n\n \n\n6pm Break Down must vacate their spots by 6:30pm\n\n \n\n \n\nShop the Square Vendor spots are first come first serve. \n\nNO POWER SOURCE WILL BE AVAILABLE
X-ALT-DESC;FMTTYPE=text/html:<strong style="color: rgb(51\, 51\, 51)\; font-family: sans-serif\, Arial\, Verdana\, &quot\;Trebuchet MS&quot\;\; font-size: 13px\;"><u><span style="font-size: 14pt\;">The Shop the Square portion of the event will happen from 10 am-6 pm.</span></u></strong>\n<div><strong style="color: rgb(51\, 51\, 51)\; font-family: sans-serif\, Arial\, Verdana\, &quot\;Trebuchet MS&quot\;\; font-size: 13px\;"><u><span style="font-size: 14pt\;">You will have the option to leave at 2 pm or 6 pm.</span></u></strong></div>\n\n<div><br style="color: rgb(51\, 51\, 51)\; font-family: sans-serif\, Arial\, Verdana\, &quot\;Trebuchet MS&quot\;\;" />\n<strong style="color: rgb(51\, 51\, 51)\; font-family: sans-serif\, Arial\, Verdana\, &quot\;Trebuchet MS&quot\;\; font-size: 13px\;"><u><span style="font-size: 14pt\;">Set up is 8am-9am.&nbsp\;</span></u></strong></div>\n\n<div>&nbsp\;</div>\n\n<div><strong style="color: rgb(51\, 51\, 51)\; font-family: sans-serif\, Arial\, Verdana\, &quot\;Trebuchet MS&quot\;\; font-size: 13px\;"><u><span style="font-size: 14pt\;">2pm Break Down must vacate their spots by 2:30pm.</span></u></strong></div>\n\n<div>&nbsp\;</div>\n\n<div><strong style="color: rgb(51\, 51\, 51)\; font-family: sans-serif\, Arial\, Verdana\, &quot\;Trebuchet MS&quot\;\; font-size: 13px\;"><u><span style="font-size: 14pt\;">6pm Break Down must vacate their spots by 6:30pm</span></u></strong></div>\n\n<div>&nbsp\;</div>\n\n<div><span style="color: rgb(51\, 51\, 51)\; font-family: sans-serif\, Arial\, Verdana\, &quot\;Trebuchet MS&quot\;\; font-size: 13px\; background-color: rgb(255\, 255\, 255)\;">&nbsp\;</span><br style="color: rgb(51\, 51\, 51)\; font-family: sans-serif\, Arial\, Verdana\, &quot\;Trebuchet MS&quot\;\; font-size: 13px\;" />\n<strong style="color: rgb(51\, 51\, 51)\; font-family: sans-serif\, Arial\, Verdana\, &quot\;Trebuchet MS&quot\;\; font-size: 13px\;"><span style="font-size: 14pt\;">Shop the Square Vendor spots are first come first serve.&nbsp\;<br />\n<u>NO POWER SOURCE WILL BE AVAILABLE</u></span></strong></div>\n
LOCATION:The Settlement on Shoe Creek 14150 Grand Settlement Blvd.
UID:e.1367.3198
SEQUENCE:3
DTSTAMP:20260421T020931Z
URL:https://business.cityofcentralchamber.com/events/details/central-s-faith-family-fall-fest-3198
END:VEVENT

END:VCALENDAR
