BEGIN:VCALENDAR
VERSION:2.0
PRODID:-//ChamberMaster//Event Calendar 2.0//EN
METHOD:PUBLISH
X-PUBLISHED-TTL:P3D
REFRESH-INTERVAL:P3D
CALSCALE:GREGORIAN
BEGIN:VEVENT
DTSTART;VALUE=DATE:20200419
DTEND;VALUE=DATE:20200426
TRANSP:TRANSPARENT
X-MICROSOFT-CDO-ALLDAYEVENT:TRUE
SUMMARY:POSTPONED: Central Restaurant Week
DESCRIPTION:POSTPONED: STAY TUNED FOR NEW DATES SOON!\n\nCENTRAL RESTAURANT WEEK\nSECOND ANNUAL CENTRAL RESTAURANT WEEK\n\nLocal Restaurant owners\, along with your Central Chamber\, are excited to announce the details for our second annual :\n\nCentral Restaurant Week\n\nAPRIL 19-25 New Dates Coming Soon!\n\nWe are excited to have this opportunity to partner with area restaurants to promote dining in Central!\n\nDetails\n\nEach participating restaurant will provide special menus for the week. Many of them will have special offers involving appetizer\, entr e and dessert. Follow this link to see our Event Page and keep up with all the details! \n\n \n\nPRIZE DRAWING\n\nEach restaurant is providing the Central Chamber with a gift card to be used in a grand prize "gift card bundle" drawing to be held at the conclusion of Central Restaurant Week! Patrons who turn in at least 3 receipts\, from 3 different restaurants they have eaten during Central Restaurant Week\, will be entered into the drawing to win the gift card bundle.  All receipts must be turned into the chamber by May 6th to\, 12416 Hooper Road\, Central LA\, 70818 or P.O. Box 78107 Central La. 70837.  If you wish\, scan and email them to chamber@cityofcentralchamber.com.  Please have your name and phone number on the receipts.  Drawing will take place at the September 13th Members' Monthly Luncheon.\n\nThanks to our local restaurant participants!  Click on their logo to see their Central Restaurant Week SPECIALS!
X-ALT-DESC;FMTTYPE=text/html:<span style="color:#8B4513\;"><strong><span style="font-size:22px\;">POSTPONED: STAY TUNED FOR NEW DATES SOON!</span></strong></span><br />\n<span style="color:#8B4513\;"><strong><span style="font-size:22px\;">CENTRAL RESTAURANT WEEK</span></strong></span>\n<p style="box-sizing: border-box\; margin: 0px 0px 10px\; font-size: 16px\; font-family: Calibri\, Verdana\, Geneva\, sans-serif\;"><span style="box-sizing: border-box\; color: rgb(255\, 140\, 0)\;"><em style="box-sizing: border-box\;"><strong style="box-sizing: border-box\;"><span style="box-sizing: border-box\; font-size: 18px\;">SECOND&nbsp\;ANNUAL CENTRAL RESTAURANT WEEK</span></strong></em></span></p>\n\n<p style="box-sizing: border-box\; margin: 0px 0px 10px\; font-size: 16px\; font-family: Calibri\, Verdana\, Geneva\, sans-serif\;"><span style="box-sizing: border-box\;">Local Restaurant owners\, along with your Central Chamber\, are excited to announce the details for our second&nbsp\;annual :</span></p>\n\n<p style="box-sizing: border-box\; margin: 0px 0px 10px\; font-size: 16px\; font-family: Calibri\, Verdana\, Geneva\, sans-serif\; text-align: center\;"><span style="box-sizing: border-box\; color: rgb(139\, 69\, 19)\;"><strong style="box-sizing: border-box\;">Central Restaurant Week</strong></span></p>\n\n<p style="box-sizing: border-box\; margin: 0px 0px 10px\; font-size: 16px\; font-family: Calibri\, Verdana\, Geneva\, sans-serif\; text-align: center\;"><s><span style="box-sizing: border-box\; color: rgb(255\, 140\, 0)\;"><strong style="box-sizing: border-box\;">APRIL&nbsp\;19-25</strong></span></s><span style="box-sizing: border-box\; color: rgb(255\, 140\, 0)\;"><strong style="box-sizing: border-box\;">&nbsp\;New Dates Coming Soon!</strong></span></p>\n\n<p style="box-sizing: border-box\; margin: 0px 0px 10px\; font-size: 16px\; font-family: Calibri\, Verdana\, Geneva\, sans-serif\;"><span style="box-sizing: border-box\;">We are excited to have this opportunity to partner with area restaurants to promote dining&nbsp\;in Central!</span></p>\n\n<p style="box-sizing: border-box\; margin: 0px 0px 10px\; font-size: 16px\; font-family: Calibri\, Verdana\, Geneva\, sans-serif\;"><strong style="box-sizing: border-box\;">Details</strong></p>\n\n<p style="box-sizing: border-box\; margin: 0px 0px 10px\; font-size: 16px\; font-family: Calibri\, Verdana\, Geneva\, sans-serif\;"><span style="box-sizing: border-box\;">Each participating restaurant will provide special menus for the week.&nbsp\;Many of them will have special offers involving appetizer\, entr&eacute\;e and dessert. <a href="https://www.facebook.com/events/252742865722470/">Follow this link t</a></span><span style="box-sizing: border-box\; font-size: 1rem\;"><a href="https://www.facebook.com/events/252742865722470/">o see our Event Page</a> and keep up with all the details!&nbsp\;</span></p>\n\n<p style="box-sizing: border-box\; margin: 0px 0px 10px\; font-size: 16px\; font-family: Calibri\, Verdana\, Geneva\, sans-serif\;">&nbsp\;</p>\n\n<p style="box-sizing: border-box\; margin: 0px 0px 10px\; font-size: 16px\; font-family: Calibri\, Verdana\, Geneva\, sans-serif\;"><span style="box-sizing: border-box\; color: rgb(255\, 140\, 0)\;"><strong style="box-sizing: border-box\;">PRIZE DRAWING</strong></span></p>\n\n<p style="box-sizing: border-box\; margin: 0px 0px 10px\; font-size: 16px\; font-family: Calibri\, Verdana\, Geneva\, sans-serif\;"><span style="box-sizing: border-box\;">Each restaurant is providing the Central Chamber with a gift card to be used in a<em style="box-sizing: border-box\;"><span style="box-sizing: border-box\; color: rgb(128\, 0\, 0)\;">&nbsp\;</span><span style="box-sizing: border-box\; color: rgb(255\, 140\, 0)\;"><strong style="box-sizing: border-box\;">grand prize &quot\;gift card bundle&quot\; drawing</strong></span></em>&nbsp\;to be held at the conclusion of Central Restaurant Week! Patrons who turn in at least&nbsp\;<strong style="box-sizing: border-box\;"><span style="box-sizing: border-box\; color: rgb(139\, 69\, 19)\;">3 receipts</span>\, from&nbsp\;<span style="box-sizing: border-box\; color: rgb(255\, 140\, 0)\;">3 different restaurant</span></strong><span style="box-sizing: border-box\; color: rgb(255\, 140\, 0)\;">s</span>&nbsp\;they have eaten&nbsp\;<span style="box-sizing: border-box\; color: rgb(139\, 69\, 19)\;"><u style="box-sizing: border-box\;"><strong style="box-sizing: border-box\;">during Central Restaurant Week</strong></u>\,</span>&nbsp\;will be entered into the drawing to win the gift card bundle.&nbsp\; All receipts must&nbsp\;be turned into the chamber by&nbsp\;<strong style="box-sizing: border-box\;">May&nbsp\;6th</strong>&nbsp\;to\,&nbsp\;12416 Hooper Road\, Central LA\, 70818&nbsp\;<strong style="box-sizing: border-box\;">or</strong>&nbsp\;P.O. Box 78107 Central La. 70837.&nbsp\;&nbsp\;<strong style="box-sizing: border-box\;">If you wish</strong>\, scan and email them to chamber@cityofcentralchamber.com.&nbsp\;&nbsp\;<span style="box-sizing: border-box\; color: rgb(255\, 0\, 0)\;"><em style="box-sizing: border-box\;"><strong style="box-sizing: border-box\;">Please have your name and phone number on the receipts</strong></em></span>.&nbsp\; Drawing will take place at the&nbsp\;<strong style="box-sizing: border-box\;">September 13th</strong>&nbsp\;Members&#39\; Monthly Luncheon.</span></p>\n\n<p style="box-sizing: border-box\; margin: 0px 0px 10px\; font-size: 16px\; font-family: Calibri\, Verdana\, Geneva\, sans-serif\;">Thanks to our local restaurant participants!&nbsp\;&nbsp\;<em style="box-sizing: border-box\;"><span style="box-sizing: border-box\; color: rgb(255\, 140\, 0)\;"><span style="box-sizing: border-box\; font-size: 20px\;">Click on their logo</span></span></em>&nbsp\;to see their&nbsp\;<strong style="box-sizing: border-box\;"><span style="box-sizing: border-box\; color: rgb(139\, 69\, 19)\;">Central Restaurant Week</span></strong>&nbsp\;SPECIALS!</p>\n
LOCATION:LOCAL AREA PARTICIPATING RESTAURANTS
UID:e.1367.2952
SEQUENCE:3
DTSTAMP:20260424T203647Z
URL:https://business.cityofcentralchamber.com/events/details/central-restaurant-week-2952
END:VEVENT

END:VCALENDAR
