BEGIN:VCALENDAR
VERSION:2.0
PRODID:-//ChamberMaster//Event Calendar 2.0//EN
METHOD:PUBLISH
X-PUBLISHED-TTL:P3D
REFRESH-INTERVAL:P3D
CALSCALE:GREGORIAN
BEGIN:VEVENT
DTSTART:20221101T170000Z
DTEND:20221101T180000Z
X-MICROSOFT-CDO-ALLDAYEVENT:FALSE
SUMMARY:Central Leadership Prayer Meeting
DESCRIPTION:Join us as we pray for our City\, Schools\, and Businesses in the Central area. Bring your own lunch and enjoy fellowship with our community leaders.\n\nPrayer Meetings will be held on the first Tuesday of Every Month at Noon.
X-ALT-DESC;FMTTYPE=text/html:<p class="_04xlpA direction-ltr align-center para-style-body" line-height:="" style="color: rgb(255\, 255\, 255)\; font-family: " yad7ukfpf1e=""><span style="color:#000000\;"><span style="font-size:14px\;"><span class="JsGRdQ">Join us as we pray for our City\, Schools\, and Businesses in the Central area.<span class="JsGRdQ white-space-prewrap"> </span>Bring your own lunch and enjoy fellowship with our community leaders.</span></span></span></p>\n\n<p class="_04xlpA direction-ltr align-center para-style-body" line-height:="" style="color: rgb(255\, 255\, 255)\; font-family: " yad7ukfpf1e=""><span style="color:#000000\;"><span style="font-size:14px\;"><span class="JsGRdQ">Prayer Meetings will be held on the first Tuesday of Every Month at Noon.</span></span></span></p>\n\n<p class="_04xlpA direction-ltr align-center para-style-body" line-height:="" style="color: rgb(255\, 255\, 255)\; font-family: " yad7ukfpf1e="">&nbsp\;</p>\n
LOCATION:Grace Life Church Central 13268 Denham Road
UID:e.1367.3087
SEQUENCE:3
DTSTAMP:20260422T210522Z
URL:https://business.cityofcentralchamber.com/events/details/central-leadership-prayer-meeting-3087
END:VEVENT

END:VCALENDAR
